BEGIN:VCALENDAR
VERSION:2.0
PRODID:-//Grass Valley United Methodist Church - ECPv6.15.17.1//NONSGML v1.0//EN
CALSCALE:GREGORIAN
METHOD:PUBLISH
X-WR-CALNAME:Grass Valley United Methodist Church
X-ORIGINAL-URL:https://gv-umc.org
X-WR-CALDESC:Events for Grass Valley United Methodist Church
REFRESH-INTERVAL;VALUE=DURATION:PT1H
X-Robots-Tag:noindex
X-PUBLISHED-TTL:PT1H
BEGIN:VTIMEZONE
TZID:America/Los_Angeles
BEGIN:DAYLIGHT
TZOFFSETFROM:-0800
TZOFFSETTO:-0700
TZNAME:PDT
DTSTART:20250309T100000
END:DAYLIGHT
BEGIN:STANDARD
TZOFFSETFROM:-0700
TZOFFSETTO:-0800
TZNAME:PST
DTSTART:20251102T090000
END:STANDARD
BEGIN:DAYLIGHT
TZOFFSETFROM:-0800
TZOFFSETTO:-0700
TZNAME:PDT
DTSTART:20260308T100000
END:DAYLIGHT
BEGIN:STANDARD
TZOFFSETFROM:-0700
TZOFFSETTO:-0800
TZNAME:PST
DTSTART:20261101T090000
END:STANDARD
BEGIN:DAYLIGHT
TZOFFSETFROM:-0800
TZOFFSETTO:-0700
TZNAME:PDT
DTSTART:20270314T100000
END:DAYLIGHT
BEGIN:STANDARD
TZOFFSETFROM:-0700
TZOFFSETTO:-0800
TZNAME:PST
DTSTART:20271107T090000
END:STANDARD
END:VTIMEZONE
BEGIN:VEVENT
DTSTART;TZID=America/Los_Angeles:20260327T173000
DTEND;TZID=America/Los_Angeles:20260327T183000
DTSTAMP:20260425T203159
CREATED:20251229T232826Z
LAST-MODIFIED:20251229T233239Z
UID:10002078-1774632600-1774636200@gv-umc.org
SUMMARY:Last Friday Supper
DESCRIPTION:Grass Valley United Methodist Church offers a free dinner to anyone. A delicious Free Feast will be served in The Wesley Hall of the Methodist Church.  All are welcome to have a seat\, meal and beverage with us!  Table Service begins at 5:30 pm.  Unfortunately\, To-Go Dinners will not be available.  All Community Dinners are served indoors. Please join us at 5:30pm for the Last Friday Supper meals.
URL:https://gv-umc.org/event/last-friday-supper-2/2026-03-27/
LOCATION:Grass Valley United Methodist Church\, 236 S. Church St.\, Grass Valley\, CA\, 95945\, United States
CATEGORIES:Last Friday Supper
ATTACH;FMTTYPE=image/jpeg:https://gv-umc.org/wp-content/uploads/2025/11/F498FABD-AFC5-40D9-90E0-95702B0E7280_1_105_c.jpeg
ORGANIZER;CN="Grass Valley United Methodist Church":MAILTO:gvumc@gv-umc.org
END:VEVENT
END:VCALENDAR