BEGIN:VCALENDAR
VERSION:2.0
PRODID:-//Grass Valley United Methodist Church - ECPv6.15.17.1//NONSGML v1.0//EN
CALSCALE:GREGORIAN
METHOD:PUBLISH
X-ORIGINAL-URL:https://gv-umc.org
X-WR-CALDESC:Events for Grass Valley United Methodist Church
REFRESH-INTERVAL;VALUE=DURATION:PT1H
X-Robots-Tag:noindex
X-PUBLISHED-TTL:PT1H
BEGIN:VTIMEZONE
TZID:America/Los_Angeles
BEGIN:DAYLIGHT
TZOFFSETFROM:-0800
TZOFFSETTO:-0700
TZNAME:PDT
DTSTART:20250309T100000
END:DAYLIGHT
BEGIN:STANDARD
TZOFFSETFROM:-0700
TZOFFSETTO:-0800
TZNAME:PST
DTSTART:20251102T090000
END:STANDARD
BEGIN:DAYLIGHT
TZOFFSETFROM:-0800
TZOFFSETTO:-0700
TZNAME:PDT
DTSTART:20260308T100000
END:DAYLIGHT
BEGIN:STANDARD
TZOFFSETFROM:-0700
TZOFFSETTO:-0800
TZNAME:PST
DTSTART:20261101T090000
END:STANDARD
BEGIN:DAYLIGHT
TZOFFSETFROM:-0800
TZOFFSETTO:-0700
TZNAME:PDT
DTSTART:20270314T100000
END:DAYLIGHT
BEGIN:STANDARD
TZOFFSETFROM:-0700
TZOFFSETTO:-0800
TZNAME:PST
DTSTART:20271107T090000
END:STANDARD
END:VTIMEZONE
BEGIN:VEVENT
DTSTART;TZID=America/Los_Angeles:20260424T173000
DTEND;TZID=America/Los_Angeles:20260424T183000
DTSTAMP:20260425T115905
CREATED:20260408T171529Z
LAST-MODIFIED:20260408T171530Z
UID:10002079-1777051800-1777055400@gv-umc.org
SUMMARY:Last Friday Supper
DESCRIPTION:Grass Valley United Methodist Church offers a free dinner to anyone. A delicious Free Feast will be served in The Wesley Hall of the Methodist Church.  All are welcome to have a seat\, meal and beverage with us!  Table Service begins at 5:30 pm.  Unfortunately\, To-Go Dinners will not be available.  All Community Dinners are served indoors. Please join us at 5:30pm for the Last Friday Supper meals. \nFREE Dinner\, Served 5:30 pm to 6:30 pm \n\nGVUMC\, Wesley Hall\, 236 S. Church Street\nSpring Dinner: Baked Ham\, Sweet Potatoes\, Fresh Green Salad & Dressing\, Rolls w/ Butter\n\nAnd a variety of Cakes & Pies for Dessert!!  \n     Live Music by The Strum Bums!!! \n Families are Welcome!!
URL:https://gv-umc.org/event/last-friday-supper-2-2/
LOCATION:Grass Valley United Methodist Church\, 236 S. Church St.\, Grass Valley\, CA\, 95945\, United States
CATEGORIES:Last Friday Supper
ATTACH;FMTTYPE=image/jpeg:https://gv-umc.org/wp-content/uploads/2025/11/F498FABD-AFC5-40D9-90E0-95702B0E7280_1_105_c.jpeg
ORGANIZER;CN="Grass Valley United Methodist Church":MAILTO:gvumc@gv-umc.org
END:VEVENT
END:VCALENDAR