BEGIN:VCALENDAR
VERSION:2.0
PRODID:-//Grass Valley United Methodist Church - ECPv6.15.17.1//NONSGML v1.0//EN
CALSCALE:GREGORIAN
METHOD:PUBLISH
X-ORIGINAL-URL:https://gv-umc.org
X-WR-CALDESC:Events for Grass Valley United Methodist Church
REFRESH-INTERVAL;VALUE=DURATION:PT1H
X-Robots-Tag:noindex
X-PUBLISHED-TTL:PT1H
BEGIN:VTIMEZONE
TZID:America/Los_Angeles
BEGIN:DAYLIGHT
TZOFFSETFROM:-0800
TZOFFSETTO:-0700
TZNAME:PDT
DTSTART:20250309T100000
END:DAYLIGHT
BEGIN:STANDARD
TZOFFSETFROM:-0700
TZOFFSETTO:-0800
TZNAME:PST
DTSTART:20251102T090000
END:STANDARD
BEGIN:DAYLIGHT
TZOFFSETFROM:-0800
TZOFFSETTO:-0700
TZNAME:PDT
DTSTART:20260308T100000
END:DAYLIGHT
BEGIN:STANDARD
TZOFFSETFROM:-0700
TZOFFSETTO:-0800
TZNAME:PST
DTSTART:20261101T090000
END:STANDARD
BEGIN:DAYLIGHT
TZOFFSETFROM:-0800
TZOFFSETTO:-0700
TZNAME:PDT
DTSTART:20270314T100000
END:DAYLIGHT
BEGIN:STANDARD
TZOFFSETFROM:-0700
TZOFFSETTO:-0800
TZNAME:PST
DTSTART:20271107T090000
END:STANDARD
END:VTIMEZONE
BEGIN:VEVENT
DTSTART;TZID=America/Los_Angeles:20260528T070000
DTEND;TZID=America/Los_Angeles:20260528T120000
DTSTAMP:20260425T184207
CREATED:20251229T234710Z
LAST-MODIFIED:20251229T234710Z
UID:10002142-1779951600-1779969600@gv-umc.org
SUMMARY:Pasty Bake
DESCRIPTION:Join us on the last Thursday of each month! We love new volunteers! No previous experience necessary\, we will train you! There are sit down jobs\, stand up jobs\, jobs that require some training and jobs that require only a willingness to help. We can always use more help and hope you might consider this possible volunteer opportunity. We gather between 7 a.m. and 9 a.m. in Wesley Hall and would love volunteers.
URL:https://gv-umc.org/event/pasty-bake-2/2026-05-28/
LOCATION:Grass Valley United Methodist Church\, 236 S. Church St.\, Grass Valley\, CA\, 95945\, United States
CATEGORIES:Pasty Bake
ATTACH;FMTTYPE=image/jpeg:https://gv-umc.org/wp-content/uploads/2024/05/IMG_5478-scaled.jpeg
ORGANIZER;CN="Grass Valley United Methodist Church":MAILTO:gvumc@gv-umc.org
END:VEVENT
END:VCALENDAR