BEGIN:VCALENDAR
VERSION:2.0
PRODID:-//Grass Valley United Methodist Church - ECPv6.15.17.1//NONSGML v1.0//EN
CALSCALE:GREGORIAN
METHOD:PUBLISH
X-WR-CALNAME:Grass Valley United Methodist Church
X-ORIGINAL-URL:https://gv-umc.org
X-WR-CALDESC:Events for Grass Valley United Methodist Church
REFRESH-INTERVAL;VALUE=DURATION:PT1H
X-Robots-Tag:noindex
X-PUBLISHED-TTL:PT1H
BEGIN:VTIMEZONE
TZID:America/Los_Angeles
BEGIN:DAYLIGHT
TZOFFSETFROM:-0800
TZOFFSETTO:-0700
TZNAME:PDT
DTSTART:20250309T100000
END:DAYLIGHT
BEGIN:STANDARD
TZOFFSETFROM:-0700
TZOFFSETTO:-0800
TZNAME:PST
DTSTART:20251102T090000
END:STANDARD
BEGIN:DAYLIGHT
TZOFFSETFROM:-0800
TZOFFSETTO:-0700
TZNAME:PDT
DTSTART:20260308T100000
END:DAYLIGHT
BEGIN:STANDARD
TZOFFSETFROM:-0700
TZOFFSETTO:-0800
TZNAME:PST
DTSTART:20261101T090000
END:STANDARD
BEGIN:DAYLIGHT
TZOFFSETFROM:-0800
TZOFFSETTO:-0700
TZNAME:PDT
DTSTART:20270314T100000
END:DAYLIGHT
BEGIN:STANDARD
TZOFFSETFROM:-0700
TZOFFSETTO:-0800
TZNAME:PST
DTSTART:20271107T090000
END:STANDARD
END:VTIMEZONE
BEGIN:VEVENT
DTSTART;TZID=America/Los_Angeles:20260405T084500
DTEND;TZID=America/Los_Angeles:20260405T093000
DTSTAMP:20260425T185332
CREATED:20260401T005331Z
LAST-MODIFIED:20260401T005331Z
UID:10002204-1775378700-1775381400@gv-umc.org
SUMMARY:Flowering of the Cross
DESCRIPTION:Join us as we flower the cross for Easter Service. Bring flowers from home or your favorite flower shop\, or help with the flowers we’ve collected.
URL:https://gv-umc.org/event/flowering-of-the-cross/
LOCATION:Grass Valley United Methodist Church\, 236 S. Church St.\, Grass Valley\, CA\, 95945\, United States
ORGANIZER;CN="Grass Valley United Methodist Church":MAILTO:gvumc@gv-umc.org
END:VEVENT
BEGIN:VEVENT
DTSTART;TZID=America/Los_Angeles:20260405T084500
DTEND;TZID=America/Los_Angeles:20260405T094500
DTSTAMP:20260425T185332
CREATED:20260320T205013Z
LAST-MODIFIED:20260401T005100Z
UID:10002202-1775378700-1775382300@gv-umc.org
SUMMARY:Free Easter Breakfast
DESCRIPTION:Come join us as the men of GVUMC serve breakfast before Easter Sunday Service.
URL:https://gv-umc.org/event/free-easter-breakfast/
LOCATION:Grass Valley United Methodist Church\, 236 S. Church St.\, Grass Valley\, CA\, 95945\, United States
CATEGORIES:Worship Services
ORGANIZER;CN="Grass Valley United Methodist Church":MAILTO:gvumc@gv-umc.org
END:VEVENT
BEGIN:VEVENT
DTSTART;TZID=America/Los_Angeles:20260405T100000
DTEND;TZID=America/Los_Angeles:20260405T110000
DTSTAMP:20260425T185332
CREATED:20251119T092011Z
LAST-MODIFIED:20251229T231344Z
UID:10001821-1775383200-1775386800@gv-umc.org
SUMMARY:Worship Service
DESCRIPTION:We worship every Sunday from 10am to 11am\, and always follow-up with a well attended and delicious coffee fellowship (usually with lots of tasteful treats).
URL:https://gv-umc.org/event/worship-service/2026-04-05/
LOCATION:CA
CATEGORIES:Worship Services
ATTACH;FMTTYPE=image/jpeg:https://gv-umc.org/wp-content/uploads/2024/06/IMG_5574-1-scaled.jpeg
END:VEVENT
BEGIN:VEVENT
DTSTART;TZID=America/Los_Angeles:20260405T110000
DTEND;TZID=America/Los_Angeles:20260405T113000
DTSTAMP:20260425T185332
CREATED:20251211T074153Z
LAST-MODIFIED:20251226T004516Z
UID:10001555-1775386800-1775388600@gv-umc.org
SUMMARY:Fellowship Gathering
DESCRIPTION:Join us for coffee\, treats\, and great company immediately after Worship in the Wesley Hall.
URL:https://gv-umc.org/event/fellowship-gathering/2026-04-05/
LOCATION:Grass Valley United Methodist Church\, 236 S. Church St.\, Grass Valley\, CA\, 95945\, United States
END:VEVENT
BEGIN:VEVENT
DTSTART;TZID=America/Los_Angeles:20260412T100000
DTEND;TZID=America/Los_Angeles:20260412T110000
DTSTAMP:20260425T185332
CREATED:20251119T092011Z
LAST-MODIFIED:20251229T231344Z
UID:10001822-1775988000-1775991600@gv-umc.org
SUMMARY:Worship Service
DESCRIPTION:We worship every Sunday from 10am to 11am\, and always follow-up with a well attended and delicious coffee fellowship (usually with lots of tasteful treats).
URL:https://gv-umc.org/event/worship-service/2026-04-12/
LOCATION:CA
CATEGORIES:Worship Services
ATTACH;FMTTYPE=image/jpeg:https://gv-umc.org/wp-content/uploads/2024/06/IMG_5574-1-scaled.jpeg
END:VEVENT
BEGIN:VEVENT
DTSTART;TZID=America/Los_Angeles:20260412T110000
DTEND;TZID=America/Los_Angeles:20260412T113000
DTSTAMP:20260425T185332
CREATED:20251211T074153Z
LAST-MODIFIED:20251226T004516Z
UID:10001556-1775991600-1775993400@gv-umc.org
SUMMARY:Fellowship Gathering
DESCRIPTION:Join us for coffee\, treats\, and great company immediately after Worship in the Wesley Hall.
URL:https://gv-umc.org/event/fellowship-gathering/2026-04-12/
LOCATION:Grass Valley United Methodist Church\, 236 S. Church St.\, Grass Valley\, CA\, 95945\, United States
END:VEVENT
BEGIN:VEVENT
DTSTART;TZID=America/Los_Angeles:20260419T100000
DTEND;TZID=America/Los_Angeles:20260419T110000
DTSTAMP:20260425T185332
CREATED:20251119T092011Z
LAST-MODIFIED:20251229T231344Z
UID:10001823-1776592800-1776596400@gv-umc.org
SUMMARY:Worship Service
DESCRIPTION:We worship every Sunday from 10am to 11am\, and always follow-up with a well attended and delicious coffee fellowship (usually with lots of tasteful treats).
URL:https://gv-umc.org/event/worship-service/2026-04-19/
LOCATION:CA
CATEGORIES:Worship Services
ATTACH;FMTTYPE=image/jpeg:https://gv-umc.org/wp-content/uploads/2024/06/IMG_5574-1-scaled.jpeg
END:VEVENT
BEGIN:VEVENT
DTSTART;TZID=America/Los_Angeles:20260419T110000
DTEND;TZID=America/Los_Angeles:20260419T113000
DTSTAMP:20260425T185332
CREATED:20251211T074153Z
LAST-MODIFIED:20251226T004516Z
UID:10001557-1776596400-1776598200@gv-umc.org
SUMMARY:Fellowship Gathering
DESCRIPTION:Join us for coffee\, treats\, and great company immediately after Worship in the Wesley Hall.
URL:https://gv-umc.org/event/fellowship-gathering/2026-04-19/
LOCATION:Grass Valley United Methodist Church\, 236 S. Church St.\, Grass Valley\, CA\, 95945\, United States
END:VEVENT
BEGIN:VEVENT
DTSTART;TZID=America/Los_Angeles:20260424T173000
DTEND;TZID=America/Los_Angeles:20260424T183000
DTSTAMP:20260425T185332
CREATED:20260408T171529Z
LAST-MODIFIED:20260408T171530Z
UID:10002079-1777051800-1777055400@gv-umc.org
SUMMARY:Last Friday Supper
DESCRIPTION:Grass Valley United Methodist Church offers a free dinner to anyone. A delicious Free Feast will be served in The Wesley Hall of the Methodist Church.  All are welcome to have a seat\, meal and beverage with us!  Table Service begins at 5:30 pm.  Unfortunately\, To-Go Dinners will not be available.  All Community Dinners are served indoors. Please join us at 5:30pm for the Last Friday Supper meals. \nFREE Dinner\, Served 5:30 pm to 6:30 pm \n\nGVUMC\, Wesley Hall\, 236 S. Church Street\nSpring Dinner: Baked Ham\, Sweet Potatoes\, Fresh Green Salad & Dressing\, Rolls w/ Butter\n\nAnd a variety of Cakes & Pies for Dessert!!  \n     Live Music by The Strum Bums!!! \n Families are Welcome!!
URL:https://gv-umc.org/event/last-friday-supper-2-2/
LOCATION:Grass Valley United Methodist Church\, 236 S. Church St.\, Grass Valley\, CA\, 95945\, United States
CATEGORIES:Last Friday Supper
ATTACH;FMTTYPE=image/jpeg:https://gv-umc.org/wp-content/uploads/2025/11/F498FABD-AFC5-40D9-90E0-95702B0E7280_1_105_c.jpeg
ORGANIZER;CN="Grass Valley United Methodist Church":MAILTO:gvumc@gv-umc.org
END:VEVENT
BEGIN:VEVENT
DTSTART;TZID=America/Los_Angeles:20260426T100000
DTEND;TZID=America/Los_Angeles:20260426T110000
DTSTAMP:20260425T185332
CREATED:20251119T092011Z
LAST-MODIFIED:20251229T231344Z
UID:10001824-1777197600-1777201200@gv-umc.org
SUMMARY:Worship Service
DESCRIPTION:We worship every Sunday from 10am to 11am\, and always follow-up with a well attended and delicious coffee fellowship (usually with lots of tasteful treats).
URL:https://gv-umc.org/event/worship-service/2026-04-26/
LOCATION:CA
CATEGORIES:Worship Services
ATTACH;FMTTYPE=image/jpeg:https://gv-umc.org/wp-content/uploads/2024/06/IMG_5574-1-scaled.jpeg
END:VEVENT
BEGIN:VEVENT
DTSTART;TZID=America/Los_Angeles:20260426T110000
DTEND;TZID=America/Los_Angeles:20260426T113000
DTSTAMP:20260425T185332
CREATED:20251211T074153Z
LAST-MODIFIED:20251226T004516Z
UID:10001558-1777201200-1777203000@gv-umc.org
SUMMARY:Fellowship Gathering
DESCRIPTION:Join us for coffee\, treats\, and great company immediately after Worship in the Wesley Hall.
URL:https://gv-umc.org/event/fellowship-gathering/2026-04-26/
LOCATION:Grass Valley United Methodist Church\, 236 S. Church St.\, Grass Valley\, CA\, 95945\, United States
END:VEVENT
BEGIN:VEVENT
DTSTART;TZID=America/Los_Angeles:20260430T070000
DTEND;TZID=America/Los_Angeles:20260430T120000
DTSTAMP:20260425T185332
CREATED:20251229T234710Z
LAST-MODIFIED:20251229T234710Z
UID:10002141-1777532400-1777550400@gv-umc.org
SUMMARY:Pasty Bake
DESCRIPTION:Join us on the last Thursday of each month! We love new volunteers! No previous experience necessary\, we will train you! There are sit down jobs\, stand up jobs\, jobs that require some training and jobs that require only a willingness to help. We can always use more help and hope you might consider this possible volunteer opportunity. We gather between 7 a.m. and 9 a.m. in Wesley Hall and would love volunteers.
URL:https://gv-umc.org/event/pasty-bake-2/2026-04-30/
LOCATION:Grass Valley United Methodist Church\, 236 S. Church St.\, Grass Valley\, CA\, 95945\, United States
CATEGORIES:Pasty Bake
ATTACH;FMTTYPE=image/jpeg:https://gv-umc.org/wp-content/uploads/2024/05/IMG_5478-scaled.jpeg
ORGANIZER;CN="Grass Valley United Methodist Church":MAILTO:gvumc@gv-umc.org
END:VEVENT
BEGIN:VEVENT
DTSTART;TZID=America/Los_Angeles:20260503T100000
DTEND;TZID=America/Los_Angeles:20260503T110000
DTSTAMP:20260425T185332
CREATED:20251119T092011Z
LAST-MODIFIED:20251229T231344Z
UID:10001825-1777802400-1777806000@gv-umc.org
SUMMARY:Worship Service
DESCRIPTION:We worship every Sunday from 10am to 11am\, and always follow-up with a well attended and delicious coffee fellowship (usually with lots of tasteful treats).
URL:https://gv-umc.org/event/worship-service/2026-05-03/
LOCATION:CA
CATEGORIES:Worship Services
ATTACH;FMTTYPE=image/jpeg:https://gv-umc.org/wp-content/uploads/2024/06/IMG_5574-1-scaled.jpeg
END:VEVENT
BEGIN:VEVENT
DTSTART;TZID=America/Los_Angeles:20260503T110000
DTEND;TZID=America/Los_Angeles:20260503T113000
DTSTAMP:20260425T185332
CREATED:20251211T074153Z
LAST-MODIFIED:20251226T004516Z
UID:10001559-1777806000-1777807800@gv-umc.org
SUMMARY:Fellowship Gathering
DESCRIPTION:Join us for coffee\, treats\, and great company immediately after Worship in the Wesley Hall.
URL:https://gv-umc.org/event/fellowship-gathering/2026-05-03/
LOCATION:Grass Valley United Methodist Church\, 236 S. Church St.\, Grass Valley\, CA\, 95945\, United States
END:VEVENT
BEGIN:VEVENT
DTSTART;TZID=America/Los_Angeles:20260510T100000
DTEND;TZID=America/Los_Angeles:20260510T110000
DTSTAMP:20260425T185332
CREATED:20251119T092011Z
LAST-MODIFIED:20251229T231344Z
UID:10001826-1778407200-1778410800@gv-umc.org
SUMMARY:Worship Service
DESCRIPTION:We worship every Sunday from 10am to 11am\, and always follow-up with a well attended and delicious coffee fellowship (usually with lots of tasteful treats).
URL:https://gv-umc.org/event/worship-service/2026-05-10/
LOCATION:CA
CATEGORIES:Worship Services
ATTACH;FMTTYPE=image/jpeg:https://gv-umc.org/wp-content/uploads/2024/06/IMG_5574-1-scaled.jpeg
END:VEVENT
BEGIN:VEVENT
DTSTART;TZID=America/Los_Angeles:20260510T110000
DTEND;TZID=America/Los_Angeles:20260510T113000
DTSTAMP:20260425T185332
CREATED:20251211T074153Z
LAST-MODIFIED:20251226T004516Z
UID:10001560-1778410800-1778412600@gv-umc.org
SUMMARY:Fellowship Gathering
DESCRIPTION:Join us for coffee\, treats\, and great company immediately after Worship in the Wesley Hall.
URL:https://gv-umc.org/event/fellowship-gathering/2026-05-10/
LOCATION:Grass Valley United Methodist Church\, 236 S. Church St.\, Grass Valley\, CA\, 95945\, United States
END:VEVENT
BEGIN:VEVENT
DTSTART;TZID=America/Los_Angeles:20260517T100000
DTEND;TZID=America/Los_Angeles:20260517T110000
DTSTAMP:20260425T185332
CREATED:20251119T092011Z
LAST-MODIFIED:20251229T231344Z
UID:10001827-1779012000-1779015600@gv-umc.org
SUMMARY:Worship Service
DESCRIPTION:We worship every Sunday from 10am to 11am\, and always follow-up with a well attended and delicious coffee fellowship (usually with lots of tasteful treats).
URL:https://gv-umc.org/event/worship-service/2026-05-17/
LOCATION:CA
CATEGORIES:Worship Services
ATTACH;FMTTYPE=image/jpeg:https://gv-umc.org/wp-content/uploads/2024/06/IMG_5574-1-scaled.jpeg
END:VEVENT
BEGIN:VEVENT
DTSTART;TZID=America/Los_Angeles:20260517T110000
DTEND;TZID=America/Los_Angeles:20260517T113000
DTSTAMP:20260425T185332
CREATED:20251211T074153Z
LAST-MODIFIED:20251226T004516Z
UID:10001561-1779015600-1779017400@gv-umc.org
SUMMARY:Fellowship Gathering
DESCRIPTION:Join us for coffee\, treats\, and great company immediately after Worship in the Wesley Hall.
URL:https://gv-umc.org/event/fellowship-gathering/2026-05-17/
LOCATION:Grass Valley United Methodist Church\, 236 S. Church St.\, Grass Valley\, CA\, 95945\, United States
END:VEVENT
BEGIN:VEVENT
DTSTART;TZID=America/Los_Angeles:20260524T100000
DTEND;TZID=America/Los_Angeles:20260524T110000
DTSTAMP:20260425T185332
CREATED:20251119T092011Z
LAST-MODIFIED:20251229T231344Z
UID:10001828-1779616800-1779620400@gv-umc.org
SUMMARY:Worship Service
DESCRIPTION:We worship every Sunday from 10am to 11am\, and always follow-up with a well attended and delicious coffee fellowship (usually with lots of tasteful treats).
URL:https://gv-umc.org/event/worship-service/2026-05-24/
LOCATION:CA
CATEGORIES:Worship Services
ATTACH;FMTTYPE=image/jpeg:https://gv-umc.org/wp-content/uploads/2024/06/IMG_5574-1-scaled.jpeg
END:VEVENT
BEGIN:VEVENT
DTSTART;TZID=America/Los_Angeles:20260524T110000
DTEND;TZID=America/Los_Angeles:20260524T113000
DTSTAMP:20260425T185332
CREATED:20251211T074153Z
LAST-MODIFIED:20251226T004516Z
UID:10001562-1779620400-1779622200@gv-umc.org
SUMMARY:Fellowship Gathering
DESCRIPTION:Join us for coffee\, treats\, and great company immediately after Worship in the Wesley Hall.
URL:https://gv-umc.org/event/fellowship-gathering/2026-05-24/
LOCATION:Grass Valley United Methodist Church\, 236 S. Church St.\, Grass Valley\, CA\, 95945\, United States
END:VEVENT
BEGIN:VEVENT
DTSTART;TZID=America/Los_Angeles:20260528T070000
DTEND;TZID=America/Los_Angeles:20260528T120000
DTSTAMP:20260425T185332
CREATED:20251229T234710Z
LAST-MODIFIED:20251229T234710Z
UID:10002142-1779951600-1779969600@gv-umc.org
SUMMARY:Pasty Bake
DESCRIPTION:Join us on the last Thursday of each month! We love new volunteers! No previous experience necessary\, we will train you! There are sit down jobs\, stand up jobs\, jobs that require some training and jobs that require only a willingness to help. We can always use more help and hope you might consider this possible volunteer opportunity. We gather between 7 a.m. and 9 a.m. in Wesley Hall and would love volunteers.
URL:https://gv-umc.org/event/pasty-bake-2/2026-05-28/
LOCATION:Grass Valley United Methodist Church\, 236 S. Church St.\, Grass Valley\, CA\, 95945\, United States
CATEGORIES:Pasty Bake
ATTACH;FMTTYPE=image/jpeg:https://gv-umc.org/wp-content/uploads/2024/05/IMG_5478-scaled.jpeg
ORGANIZER;CN="Grass Valley United Methodist Church":MAILTO:gvumc@gv-umc.org
END:VEVENT
BEGIN:VEVENT
DTSTART;TZID=America/Los_Angeles:20260529T173000
DTEND;TZID=America/Los_Angeles:20260529T183000
DTSTAMP:20260425T185332
CREATED:20251229T232826Z
LAST-MODIFIED:20251229T233239Z
UID:10002080-1780075800-1780079400@gv-umc.org
SUMMARY:Last Friday Supper
DESCRIPTION:Grass Valley United Methodist Church offers a free dinner to anyone. A delicious Free Feast will be served in The Wesley Hall of the Methodist Church.  All are welcome to have a seat\, meal and beverage with us!  Table Service begins at 5:30 pm.  Unfortunately\, To-Go Dinners will not be available.  All Community Dinners are served indoors. Please join us at 5:30pm for the Last Friday Supper meals.
URL:https://gv-umc.org/event/last-friday-supper-2/2026-05-29/
LOCATION:Grass Valley United Methodist Church\, 236 S. Church St.\, Grass Valley\, CA\, 95945\, United States
CATEGORIES:Last Friday Supper
ATTACH;FMTTYPE=image/jpeg:https://gv-umc.org/wp-content/uploads/2025/11/F498FABD-AFC5-40D9-90E0-95702B0E7280_1_105_c.jpeg
ORGANIZER;CN="Grass Valley United Methodist Church":MAILTO:gvumc@gv-umc.org
END:VEVENT
BEGIN:VEVENT
DTSTART;TZID=America/Los_Angeles:20260531T100000
DTEND;TZID=America/Los_Angeles:20260531T110000
DTSTAMP:20260425T185332
CREATED:20251119T092011Z
LAST-MODIFIED:20251229T231344Z
UID:10001829-1780221600-1780225200@gv-umc.org
SUMMARY:Worship Service
DESCRIPTION:We worship every Sunday from 10am to 11am\, and always follow-up with a well attended and delicious coffee fellowship (usually with lots of tasteful treats).
URL:https://gv-umc.org/event/worship-service/2026-05-31/
LOCATION:CA
CATEGORIES:Worship Services
ATTACH;FMTTYPE=image/jpeg:https://gv-umc.org/wp-content/uploads/2024/06/IMG_5574-1-scaled.jpeg
END:VEVENT
BEGIN:VEVENT
DTSTART;TZID=America/Los_Angeles:20260531T110000
DTEND;TZID=America/Los_Angeles:20260531T113000
DTSTAMP:20260425T185332
CREATED:20251211T074153Z
LAST-MODIFIED:20251226T004516Z
UID:10001563-1780225200-1780227000@gv-umc.org
SUMMARY:Fellowship Gathering
DESCRIPTION:Join us for coffee\, treats\, and great company immediately after Worship in the Wesley Hall.
URL:https://gv-umc.org/event/fellowship-gathering/2026-05-31/
LOCATION:Grass Valley United Methodist Church\, 236 S. Church St.\, Grass Valley\, CA\, 95945\, United States
END:VEVENT
BEGIN:VEVENT
DTSTART;TZID=America/Los_Angeles:20260607T100000
DTEND;TZID=America/Los_Angeles:20260607T110000
DTSTAMP:20260425T185332
CREATED:20251119T092011Z
LAST-MODIFIED:20251229T231344Z
UID:10001830-1780826400-1780830000@gv-umc.org
SUMMARY:Worship Service
DESCRIPTION:We worship every Sunday from 10am to 11am\, and always follow-up with a well attended and delicious coffee fellowship (usually with lots of tasteful treats).
URL:https://gv-umc.org/event/worship-service/2026-06-07/
LOCATION:CA
CATEGORIES:Worship Services
ATTACH;FMTTYPE=image/jpeg:https://gv-umc.org/wp-content/uploads/2024/06/IMG_5574-1-scaled.jpeg
END:VEVENT
BEGIN:VEVENT
DTSTART;TZID=America/Los_Angeles:20260607T110000
DTEND;TZID=America/Los_Angeles:20260607T113000
DTSTAMP:20260425T185332
CREATED:20251211T074153Z
LAST-MODIFIED:20251226T004516Z
UID:10001564-1780830000-1780831800@gv-umc.org
SUMMARY:Fellowship Gathering
DESCRIPTION:Join us for coffee\, treats\, and great company immediately after Worship in the Wesley Hall.
URL:https://gv-umc.org/event/fellowship-gathering/2026-06-07/
LOCATION:Grass Valley United Methodist Church\, 236 S. Church St.\, Grass Valley\, CA\, 95945\, United States
END:VEVENT
BEGIN:VEVENT
DTSTART;TZID=America/Los_Angeles:20260614T100000
DTEND;TZID=America/Los_Angeles:20260614T110000
DTSTAMP:20260425T185332
CREATED:20251119T092011Z
LAST-MODIFIED:20251229T231344Z
UID:10001831-1781431200-1781434800@gv-umc.org
SUMMARY:Worship Service
DESCRIPTION:We worship every Sunday from 10am to 11am\, and always follow-up with a well attended and delicious coffee fellowship (usually with lots of tasteful treats).
URL:https://gv-umc.org/event/worship-service/2026-06-14/
LOCATION:CA
CATEGORIES:Worship Services
ATTACH;FMTTYPE=image/jpeg:https://gv-umc.org/wp-content/uploads/2024/06/IMG_5574-1-scaled.jpeg
END:VEVENT
BEGIN:VEVENT
DTSTART;TZID=America/Los_Angeles:20260614T110000
DTEND;TZID=America/Los_Angeles:20260614T113000
DTSTAMP:20260425T185332
CREATED:20251211T074153Z
LAST-MODIFIED:20251226T004516Z
UID:10001565-1781434800-1781436600@gv-umc.org
SUMMARY:Fellowship Gathering
DESCRIPTION:Join us for coffee\, treats\, and great company immediately after Worship in the Wesley Hall.
URL:https://gv-umc.org/event/fellowship-gathering/2026-06-14/
LOCATION:Grass Valley United Methodist Church\, 236 S. Church St.\, Grass Valley\, CA\, 95945\, United States
END:VEVENT
BEGIN:VEVENT
DTSTART;TZID=America/Los_Angeles:20260621T100000
DTEND;TZID=America/Los_Angeles:20260621T110000
DTSTAMP:20260425T185332
CREATED:20251119T092011Z
LAST-MODIFIED:20251229T231344Z
UID:10001832-1782036000-1782039600@gv-umc.org
SUMMARY:Worship Service
DESCRIPTION:We worship every Sunday from 10am to 11am\, and always follow-up with a well attended and delicious coffee fellowship (usually with lots of tasteful treats).
URL:https://gv-umc.org/event/worship-service/2026-06-21/
LOCATION:CA
CATEGORIES:Worship Services
ATTACH;FMTTYPE=image/jpeg:https://gv-umc.org/wp-content/uploads/2024/06/IMG_5574-1-scaled.jpeg
END:VEVENT
BEGIN:VEVENT
DTSTART;TZID=America/Los_Angeles:20260621T110000
DTEND;TZID=America/Los_Angeles:20260621T113000
DTSTAMP:20260425T185332
CREATED:20251211T074153Z
LAST-MODIFIED:20251226T004516Z
UID:10001566-1782039600-1782041400@gv-umc.org
SUMMARY:Fellowship Gathering
DESCRIPTION:Join us for coffee\, treats\, and great company immediately after Worship in the Wesley Hall.
URL:https://gv-umc.org/event/fellowship-gathering/2026-06-21/
LOCATION:Grass Valley United Methodist Church\, 236 S. Church St.\, Grass Valley\, CA\, 95945\, United States
END:VEVENT
END:VCALENDAR