BEGIN:VCALENDAR
VERSION:2.0
PRODID:-//Grass Valley United Methodist Church - ECPv6.15.17.1//NONSGML v1.0//EN
CALSCALE:GREGORIAN
METHOD:PUBLISH
X-ORIGINAL-URL:https://gv-umc.org
X-WR-CALDESC:Events for Grass Valley United Methodist Church
REFRESH-INTERVAL;VALUE=DURATION:PT1H
X-Robots-Tag:noindex
X-PUBLISHED-TTL:PT1H
BEGIN:VTIMEZONE
TZID:America/Los_Angeles
BEGIN:DAYLIGHT
TZOFFSETFROM:-0800
TZOFFSETTO:-0700
TZNAME:PDT
DTSTART:20250309T100000
END:DAYLIGHT
BEGIN:STANDARD
TZOFFSETFROM:-0700
TZOFFSETTO:-0800
TZNAME:PST
DTSTART:20251102T090000
END:STANDARD
BEGIN:DAYLIGHT
TZOFFSETFROM:-0800
TZOFFSETTO:-0700
TZNAME:PDT
DTSTART:20260308T100000
END:DAYLIGHT
BEGIN:STANDARD
TZOFFSETFROM:-0700
TZOFFSETTO:-0800
TZNAME:PST
DTSTART:20261101T090000
END:STANDARD
BEGIN:DAYLIGHT
TZOFFSETFROM:-0800
TZOFFSETTO:-0700
TZNAME:PDT
DTSTART:20270314T100000
END:DAYLIGHT
BEGIN:STANDARD
TZOFFSETFROM:-0700
TZOFFSETTO:-0800
TZNAME:PST
DTSTART:20271107T090000
END:STANDARD
END:VTIMEZONE
BEGIN:VEVENT
DTSTART;TZID=America/Los_Angeles:20260329T110000
DTEND;TZID=America/Los_Angeles:20260329T113000
DTSTAMP:20260425T164931
CREATED:20251211T074153Z
LAST-MODIFIED:20251226T004516Z
UID:10001554-1774782000-1774783800@gv-umc.org
SUMMARY:Fellowship Gathering
DESCRIPTION:Join us for coffee\, treats\, and great company immediately after Worship in the Wesley Hall.
URL:https://gv-umc.org/event/fellowship-gathering/2026-03-29/
LOCATION:Grass Valley United Methodist Church\, 236 S. Church St.\, Grass Valley\, CA\, 95945\, United States
END:VEVENT
BEGIN:VEVENT
DTSTART;TZID=America/Los_Angeles:20260329T100000
DTEND;TZID=America/Los_Angeles:20260329T110000
DTSTAMP:20260425T164931
CREATED:20251119T092011Z
LAST-MODIFIED:20251229T231344Z
UID:10001820-1774778400-1774782000@gv-umc.org
SUMMARY:Worship Service
DESCRIPTION:We worship every Sunday from 10am to 11am\, and always follow-up with a well attended and delicious coffee fellowship (usually with lots of tasteful treats).
URL:https://gv-umc.org/event/worship-service/2026-03-29/
CATEGORIES:Worship Services
ATTACH;FMTTYPE=image/jpeg:https://gv-umc.org/wp-content/uploads/2024/06/IMG_5574-1-scaled.jpeg
END:VEVENT
BEGIN:VEVENT
DTSTART;TZID=America/Los_Angeles:20260327T173000
DTEND;TZID=America/Los_Angeles:20260327T183000
DTSTAMP:20260425T164931
CREATED:20251229T232826Z
LAST-MODIFIED:20251229T233239Z
UID:10002078-1774632600-1774636200@gv-umc.org
SUMMARY:Last Friday Supper
DESCRIPTION:Grass Valley United Methodist Church offers a free dinner to anyone. A delicious Free Feast will be served in The Wesley Hall of the Methodist Church.  All are welcome to have a seat\, meal and beverage with us!  Table Service begins at 5:30 pm.  Unfortunately\, To-Go Dinners will not be available.  All Community Dinners are served indoors. Please join us at 5:30pm for the Last Friday Supper meals.
URL:https://gv-umc.org/event/last-friday-supper-2/2026-03-27/
LOCATION:Grass Valley United Methodist Church\, 236 S. Church St.\, Grass Valley\, CA\, 95945\, United States
CATEGORIES:Last Friday Supper
ATTACH;FMTTYPE=image/jpeg:https://gv-umc.org/wp-content/uploads/2025/11/F498FABD-AFC5-40D9-90E0-95702B0E7280_1_105_c.jpeg
ORGANIZER;CN="Grass Valley United Methodist Church":MAILTO:gvumc@gv-umc.org
END:VEVENT
BEGIN:VEVENT
DTSTART;TZID=America/Los_Angeles:20260326T070000
DTEND;TZID=America/Los_Angeles:20260326T120000
DTSTAMP:20260425T164931
CREATED:20251229T234710Z
LAST-MODIFIED:20251229T234710Z
UID:10002140-1774508400-1774526400@gv-umc.org
SUMMARY:Pasty Bake
DESCRIPTION:Join us on the last Thursday of each month! We love new volunteers! No previous experience necessary\, we will train you! There are sit down jobs\, stand up jobs\, jobs that require some training and jobs that require only a willingness to help. We can always use more help and hope you might consider this possible volunteer opportunity. We gather between 7 a.m. and 9 a.m. in Wesley Hall and would love volunteers.
URL:https://gv-umc.org/event/pasty-bake-2/2026-03-26/
LOCATION:Grass Valley United Methodist Church\, 236 S. Church St.\, Grass Valley\, CA\, 95945\, United States
CATEGORIES:Pasty Bake
ATTACH;FMTTYPE=image/jpeg:https://gv-umc.org/wp-content/uploads/2024/05/IMG_5478-scaled.jpeg
ORGANIZER;CN="Grass Valley United Methodist Church":MAILTO:gvumc@gv-umc.org
END:VEVENT
BEGIN:VEVENT
DTSTART;TZID=America/Los_Angeles:20260322T110000
DTEND;TZID=America/Los_Angeles:20260322T113000
DTSTAMP:20260425T164931
CREATED:20251211T074153Z
LAST-MODIFIED:20251226T004516Z
UID:10001553-1774177200-1774179000@gv-umc.org
SUMMARY:Fellowship Gathering
DESCRIPTION:Join us for coffee\, treats\, and great company immediately after Worship in the Wesley Hall.
URL:https://gv-umc.org/event/fellowship-gathering/2026-03-22/
LOCATION:Grass Valley United Methodist Church\, 236 S. Church St.\, Grass Valley\, CA\, 95945\, United States
END:VEVENT
BEGIN:VEVENT
DTSTART;TZID=America/Los_Angeles:20260322T100000
DTEND;TZID=America/Los_Angeles:20260322T110000
DTSTAMP:20260425T164931
CREATED:20251119T092011Z
LAST-MODIFIED:20251229T231344Z
UID:10001819-1774173600-1774177200@gv-umc.org
SUMMARY:Worship Service
DESCRIPTION:We worship every Sunday from 10am to 11am\, and always follow-up with a well attended and delicious coffee fellowship (usually with lots of tasteful treats).
URL:https://gv-umc.org/event/worship-service/2026-03-22/
CATEGORIES:Worship Services
ATTACH;FMTTYPE=image/jpeg:https://gv-umc.org/wp-content/uploads/2024/06/IMG_5574-1-scaled.jpeg
END:VEVENT
BEGIN:VEVENT
DTSTART;TZID=America/Los_Angeles:20260321T190000
DTEND;TZID=America/Los_Angeles:20260321T210000
DTSTAMP:20260425T164931
CREATED:20251229T232246Z
LAST-MODIFIED:20251229T232934Z
UID:10002075-1774119600-1774126800@gv-umc.org
SUMMARY:Church Street Concert Series
DESCRIPTION:Come hear the magical sounds of Dirty Cello.  From Iceland to Italy\, and all over the U.S.\, San Francisco based band Dirty Cello brings the world a high energy and unique spin on blues\, rock\, and Americana. Led by vivacious cross-over cellist\, Rebecca Roudman\, Dirty Cello is cello like you’ve never heard before. From down home blues and rock with a wailing cello\, to virtuosic stompin’ Americana\, Dirty Cello is a band that gets your heart thumping and your toes tapping!
URL:https://gv-umc.org/event/church-street-concert-series-2/
LOCATION:Grass Valley United Methodist Church\, 236 S. Church St.\, Grass Valley\, CA\, 95945\, United States
CATEGORIES:Church Street Concerts
ATTACH;FMTTYPE=image/webp:https://gv-umc.org/wp-content/uploads/2025/12/DirtyCello20215.webp
ORGANIZER;CN="Church Street Concert Series":MAILTO:gvumc@gv-umc.org
END:VEVENT
BEGIN:VEVENT
DTSTART;TZID=America/Los_Angeles:20260315T110000
DTEND;TZID=America/Los_Angeles:20260315T113000
DTSTAMP:20260425T164931
CREATED:20251211T074153Z
LAST-MODIFIED:20251226T004516Z
UID:10001552-1773572400-1773574200@gv-umc.org
SUMMARY:Fellowship Gathering
DESCRIPTION:Join us for coffee\, treats\, and great company immediately after Worship in the Wesley Hall.
URL:https://gv-umc.org/event/fellowship-gathering/2026-03-15/
LOCATION:Grass Valley United Methodist Church\, 236 S. Church St.\, Grass Valley\, CA\, 95945\, United States
END:VEVENT
BEGIN:VEVENT
DTSTART;TZID=America/Los_Angeles:20260315T100000
DTEND;TZID=America/Los_Angeles:20260315T110000
DTSTAMP:20260425T164931
CREATED:20251119T092011Z
LAST-MODIFIED:20251229T231344Z
UID:10001818-1773568800-1773572400@gv-umc.org
SUMMARY:Worship Service
DESCRIPTION:We worship every Sunday from 10am to 11am\, and always follow-up with a well attended and delicious coffee fellowship (usually with lots of tasteful treats).
URL:https://gv-umc.org/event/worship-service/2026-03-15/
CATEGORIES:Worship Services
ATTACH;FMTTYPE=image/jpeg:https://gv-umc.org/wp-content/uploads/2024/06/IMG_5574-1-scaled.jpeg
END:VEVENT
BEGIN:VEVENT
DTSTART;TZID=America/Los_Angeles:20260308T110000
DTEND;TZID=America/Los_Angeles:20260308T113000
DTSTAMP:20260425T164931
CREATED:20251211T074153Z
LAST-MODIFIED:20251226T004516Z
UID:10001551-1772967600-1772969400@gv-umc.org
SUMMARY:Fellowship Gathering
DESCRIPTION:Join us for coffee\, treats\, and great company immediately after Worship in the Wesley Hall.
URL:https://gv-umc.org/event/fellowship-gathering/2026-03-08/
LOCATION:Grass Valley United Methodist Church\, 236 S. Church St.\, Grass Valley\, CA\, 95945\, United States
END:VEVENT
BEGIN:VEVENT
DTSTART;TZID=America/Los_Angeles:20260308T100000
DTEND;TZID=America/Los_Angeles:20260308T110000
DTSTAMP:20260425T164931
CREATED:20251119T092011Z
LAST-MODIFIED:20251229T231344Z
UID:10001817-1772964000-1772967600@gv-umc.org
SUMMARY:Worship Service
DESCRIPTION:We worship every Sunday from 10am to 11am\, and always follow-up with a well attended and delicious coffee fellowship (usually with lots of tasteful treats).
URL:https://gv-umc.org/event/worship-service/2026-03-08/
CATEGORIES:Worship Services
ATTACH;FMTTYPE=image/jpeg:https://gv-umc.org/wp-content/uploads/2024/06/IMG_5574-1-scaled.jpeg
END:VEVENT
BEGIN:VEVENT
DTSTART;TZID=America/Los_Angeles:20260301T110000
DTEND;TZID=America/Los_Angeles:20260301T113000
DTSTAMP:20260425T164931
CREATED:20251211T074153Z
LAST-MODIFIED:20251226T004516Z
UID:10001550-1772362800-1772364600@gv-umc.org
SUMMARY:Fellowship Gathering
DESCRIPTION:Join us for coffee\, treats\, and great company immediately after Worship in the Wesley Hall.
URL:https://gv-umc.org/event/fellowship-gathering/2026-03-01/
LOCATION:Grass Valley United Methodist Church\, 236 S. Church St.\, Grass Valley\, CA\, 95945\, United States
END:VEVENT
BEGIN:VEVENT
DTSTART;TZID=America/Los_Angeles:20260301T100000
DTEND;TZID=America/Los_Angeles:20260301T110000
DTSTAMP:20260425T164931
CREATED:20251119T092011Z
LAST-MODIFIED:20251229T231344Z
UID:10001816-1772359200-1772362800@gv-umc.org
SUMMARY:Worship Service
DESCRIPTION:We worship every Sunday from 10am to 11am\, and always follow-up with a well attended and delicious coffee fellowship (usually with lots of tasteful treats).
URL:https://gv-umc.org/event/worship-service/2026-03-01/
CATEGORIES:Worship Services
ATTACH;FMTTYPE=image/jpeg:https://gv-umc.org/wp-content/uploads/2024/06/IMG_5574-1-scaled.jpeg
END:VEVENT
BEGIN:VEVENT
DTSTART;TZID=America/Los_Angeles:20260227T173000
DTEND;TZID=America/Los_Angeles:20260227T183000
DTSTAMP:20260425T164931
CREATED:20251229T232826Z
LAST-MODIFIED:20251229T233239Z
UID:10002077-1772213400-1772217000@gv-umc.org
SUMMARY:Last Friday Supper
DESCRIPTION:Grass Valley United Methodist Church offers a free dinner to anyone. A delicious Free Feast will be served in The Wesley Hall of the Methodist Church.  All are welcome to have a seat\, meal and beverage with us!  Table Service begins at 5:30 pm.  Unfortunately\, To-Go Dinners will not be available.  All Community Dinners are served indoors. Please join us at 5:30pm for the Last Friday Supper meals.
URL:https://gv-umc.org/event/last-friday-supper-2/2026-02-27/
LOCATION:Grass Valley United Methodist Church\, 236 S. Church St.\, Grass Valley\, CA\, 95945\, United States
CATEGORIES:Last Friday Supper
ATTACH;FMTTYPE=image/jpeg:https://gv-umc.org/wp-content/uploads/2025/11/F498FABD-AFC5-40D9-90E0-95702B0E7280_1_105_c.jpeg
ORGANIZER;CN="Grass Valley United Methodist Church":MAILTO:gvumc@gv-umc.org
END:VEVENT
BEGIN:VEVENT
DTSTART;TZID=America/Los_Angeles:20260226T070000
DTEND;TZID=America/Los_Angeles:20260226T120000
DTSTAMP:20260425T164931
CREATED:20251229T234710Z
LAST-MODIFIED:20251229T234710Z
UID:10002139-1772089200-1772107200@gv-umc.org
SUMMARY:Pasty Bake
DESCRIPTION:Join us on the last Thursday of each month! We love new volunteers! No previous experience necessary\, we will train you! There are sit down jobs\, stand up jobs\, jobs that require some training and jobs that require only a willingness to help. We can always use more help and hope you might consider this possible volunteer opportunity. We gather between 7 a.m. and 9 a.m. in Wesley Hall and would love volunteers.
URL:https://gv-umc.org/event/pasty-bake-2/2026-02-26/
LOCATION:Grass Valley United Methodist Church\, 236 S. Church St.\, Grass Valley\, CA\, 95945\, United States
CATEGORIES:Pasty Bake
ATTACH;FMTTYPE=image/jpeg:https://gv-umc.org/wp-content/uploads/2024/05/IMG_5478-scaled.jpeg
ORGANIZER;CN="Grass Valley United Methodist Church":MAILTO:gvumc@gv-umc.org
END:VEVENT
BEGIN:VEVENT
DTSTART;TZID=America/Los_Angeles:20260222T110000
DTEND;TZID=America/Los_Angeles:20260222T113000
DTSTAMP:20260425T164931
CREATED:20251211T074153Z
LAST-MODIFIED:20251226T004516Z
UID:10001549-1771758000-1771759800@gv-umc.org
SUMMARY:Fellowship Gathering
DESCRIPTION:Join us for coffee\, treats\, and great company immediately after Worship in the Wesley Hall.
URL:https://gv-umc.org/event/fellowship-gathering/2026-02-22/
LOCATION:Grass Valley United Methodist Church\, 236 S. Church St.\, Grass Valley\, CA\, 95945\, United States
END:VEVENT
BEGIN:VEVENT
DTSTART;TZID=America/Los_Angeles:20260222T100000
DTEND;TZID=America/Los_Angeles:20260222T110000
DTSTAMP:20260425T164931
CREATED:20251119T092011Z
LAST-MODIFIED:20251229T231344Z
UID:10001815-1771754400-1771758000@gv-umc.org
SUMMARY:Worship Service
DESCRIPTION:We worship every Sunday from 10am to 11am\, and always follow-up with a well attended and delicious coffee fellowship (usually with lots of tasteful treats).
URL:https://gv-umc.org/event/worship-service/2026-02-22/
CATEGORIES:Worship Services
ATTACH;FMTTYPE=image/jpeg:https://gv-umc.org/wp-content/uploads/2024/06/IMG_5574-1-scaled.jpeg
END:VEVENT
BEGIN:VEVENT
DTSTART;TZID=America/Los_Angeles:20260218T190000
DTEND;TZID=America/Los_Angeles:20260218T200000
DTSTAMP:20260425T164931
CREATED:20260210T173535Z
LAST-MODIFIED:20260210T173729Z
UID:10002199-1771441200-1771444800@gv-umc.org
SUMMARY:Ash Wednesday Worship Service
DESCRIPTION:There will be an Ash Wednesday Worship service at 7:00 pm on February 18th.  It will be preceded by a light “Soup Supper” at 6:30 pm in the Fellowship Hall.\n\nYou are invited to begin the season of Lenten preparation with this traditional service or repentance and reflection.
URL:https://gv-umc.org/event/ash-wednesday-worship-service/
LOCATION:Grass Valley United Methodist Church\, 236 S. Church St.\, Grass Valley\, CA\, 95945\, United States
CATEGORIES:Worship Services
END:VEVENT
BEGIN:VEVENT
DTSTART;TZID=America/Los_Angeles:20260218T183000
DTEND;TZID=America/Los_Angeles:20260218T190000
DTSTAMP:20260425T164931
CREATED:20260210T173340Z
LAST-MODIFIED:20260210T173340Z
UID:10002198-1771439400-1771441200@gv-umc.org
SUMMARY:Ash Wednesday Soup Supper
DESCRIPTION:Please join us for our Soup Supper! \nThe GVUMC Ash Wednesday Worship Service is preceded by a light “Soup Supper” in the Fellowship Hall.
URL:https://gv-umc.org/event/ash-wednesday-soup-supper/
LOCATION:Grass Valley United Methodist Church\, 236 S. Church St.\, Grass Valley\, CA\, 95945\, United States
CATEGORIES:Worship Services
END:VEVENT
BEGIN:VEVENT
DTSTART;TZID=America/Los_Angeles:20260215T110000
DTEND;TZID=America/Los_Angeles:20260215T113000
DTSTAMP:20260425T164931
CREATED:20251211T074153Z
LAST-MODIFIED:20251226T004516Z
UID:10001548-1771153200-1771155000@gv-umc.org
SUMMARY:Fellowship Gathering
DESCRIPTION:Join us for coffee\, treats\, and great company immediately after Worship in the Wesley Hall.
URL:https://gv-umc.org/event/fellowship-gathering/2026-02-15/
LOCATION:Grass Valley United Methodist Church\, 236 S. Church St.\, Grass Valley\, CA\, 95945\, United States
END:VEVENT
BEGIN:VEVENT
DTSTART;TZID=America/Los_Angeles:20260215T100000
DTEND;TZID=America/Los_Angeles:20260215T110000
DTSTAMP:20260425T164931
CREATED:20251119T092011Z
LAST-MODIFIED:20251229T231344Z
UID:10001814-1771149600-1771153200@gv-umc.org
SUMMARY:Worship Service
DESCRIPTION:We worship every Sunday from 10am to 11am\, and always follow-up with a well attended and delicious coffee fellowship (usually with lots of tasteful treats).
URL:https://gv-umc.org/event/worship-service/2026-02-15/
CATEGORIES:Worship Services
ATTACH;FMTTYPE=image/jpeg:https://gv-umc.org/wp-content/uploads/2024/06/IMG_5574-1-scaled.jpeg
END:VEVENT
BEGIN:VEVENT
DTSTART;TZID=America/Los_Angeles:20260208T110000
DTEND;TZID=America/Los_Angeles:20260208T113000
DTSTAMP:20260425T164931
CREATED:20251211T074153Z
LAST-MODIFIED:20251226T004516Z
UID:10001547-1770548400-1770550200@gv-umc.org
SUMMARY:Fellowship Gathering
DESCRIPTION:Join us for coffee\, treats\, and great company immediately after Worship in the Wesley Hall.
URL:https://gv-umc.org/event/fellowship-gathering/2026-02-08/
LOCATION:Grass Valley United Methodist Church\, 236 S. Church St.\, Grass Valley\, CA\, 95945\, United States
END:VEVENT
BEGIN:VEVENT
DTSTART;TZID=America/Los_Angeles:20260208T100000
DTEND;TZID=America/Los_Angeles:20260208T110000
DTSTAMP:20260425T164931
CREATED:20251119T092011Z
LAST-MODIFIED:20251229T231344Z
UID:10001813-1770544800-1770548400@gv-umc.org
SUMMARY:Worship Service
DESCRIPTION:We worship every Sunday from 10am to 11am\, and always follow-up with a well attended and delicious coffee fellowship (usually with lots of tasteful treats).
URL:https://gv-umc.org/event/worship-service/2026-02-08/
CATEGORIES:Worship Services
ATTACH;FMTTYPE=image/jpeg:https://gv-umc.org/wp-content/uploads/2024/06/IMG_5574-1-scaled.jpeg
END:VEVENT
BEGIN:VEVENT
DTSTART;TZID=America/Los_Angeles:20260201T110000
DTEND;TZID=America/Los_Angeles:20260201T113000
DTSTAMP:20260425T164931
CREATED:20251211T074153Z
LAST-MODIFIED:20251226T004516Z
UID:10001546-1769943600-1769945400@gv-umc.org
SUMMARY:Fellowship Gathering
DESCRIPTION:Join us for coffee\, treats\, and great company immediately after Worship in the Wesley Hall.
URL:https://gv-umc.org/event/fellowship-gathering/2026-02-01/
LOCATION:Grass Valley United Methodist Church\, 236 S. Church St.\, Grass Valley\, CA\, 95945\, United States
END:VEVENT
BEGIN:VEVENT
DTSTART;TZID=America/Los_Angeles:20260201T100000
DTEND;TZID=America/Los_Angeles:20260201T110000
DTSTAMP:20260425T164931
CREATED:20251119T092011Z
LAST-MODIFIED:20251229T231344Z
UID:10001812-1769940000-1769943600@gv-umc.org
SUMMARY:Worship Service
DESCRIPTION:We worship every Sunday from 10am to 11am\, and always follow-up with a well attended and delicious coffee fellowship (usually with lots of tasteful treats).
URL:https://gv-umc.org/event/worship-service/2026-02-01/
CATEGORIES:Worship Services
ATTACH;FMTTYPE=image/jpeg:https://gv-umc.org/wp-content/uploads/2024/06/IMG_5574-1-scaled.jpeg
END:VEVENT
BEGIN:VEVENT
DTSTART;TZID=America/Los_Angeles:20260130T173000
DTEND;TZID=America/Los_Angeles:20260130T183000
DTSTAMP:20260425T164931
CREATED:20251229T232826Z
LAST-MODIFIED:20251229T233239Z
UID:10002076-1769794200-1769797800@gv-umc.org
SUMMARY:Last Friday Supper
DESCRIPTION:Grass Valley United Methodist Church offers a free dinner to anyone. A delicious Free Feast will be served in The Wesley Hall of the Methodist Church.  All are welcome to have a seat\, meal and beverage with us!  Table Service begins at 5:30 pm.  Unfortunately\, To-Go Dinners will not be available.  All Community Dinners are served indoors. Please join us at 5:30pm for the Last Friday Supper meals.
URL:https://gv-umc.org/event/last-friday-supper-2/2026-01-30/
LOCATION:Grass Valley United Methodist Church\, 236 S. Church St.\, Grass Valley\, CA\, 95945\, United States
CATEGORIES:Last Friday Supper
ATTACH;FMTTYPE=image/jpeg:https://gv-umc.org/wp-content/uploads/2025/11/F498FABD-AFC5-40D9-90E0-95702B0E7280_1_105_c.jpeg
ORGANIZER;CN="Grass Valley United Methodist Church":MAILTO:gvumc@gv-umc.org
END:VEVENT
BEGIN:VEVENT
DTSTART;TZID=America/Los_Angeles:20260129T070000
DTEND;TZID=America/Los_Angeles:20260129T120000
DTSTAMP:20260425T164931
CREATED:20251229T234710Z
LAST-MODIFIED:20251229T234710Z
UID:10002138-1769670000-1769688000@gv-umc.org
SUMMARY:Pasty Bake
DESCRIPTION:Join us on the last Thursday of each month! We love new volunteers! No previous experience necessary\, we will train you! There are sit down jobs\, stand up jobs\, jobs that require some training and jobs that require only a willingness to help. We can always use more help and hope you might consider this possible volunteer opportunity. We gather between 7 a.m. and 9 a.m. in Wesley Hall and would love volunteers.
URL:https://gv-umc.org/event/pasty-bake-2/2026-01-29/
LOCATION:Grass Valley United Methodist Church\, 236 S. Church St.\, Grass Valley\, CA\, 95945\, United States
CATEGORIES:Pasty Bake
ATTACH;FMTTYPE=image/jpeg:https://gv-umc.org/wp-content/uploads/2024/05/IMG_5478-scaled.jpeg
ORGANIZER;CN="Grass Valley United Methodist Church":MAILTO:gvumc@gv-umc.org
END:VEVENT
BEGIN:VEVENT
DTSTART;TZID=America/Los_Angeles:20260125T110000
DTEND;TZID=America/Los_Angeles:20260125T113000
DTSTAMP:20260425T164931
CREATED:20251211T074153Z
LAST-MODIFIED:20251226T004516Z
UID:10001545-1769338800-1769340600@gv-umc.org
SUMMARY:Fellowship Gathering
DESCRIPTION:Join us for coffee\, treats\, and great company immediately after Worship in the Wesley Hall.
URL:https://gv-umc.org/event/fellowship-gathering/2026-01-25/
LOCATION:Grass Valley United Methodist Church\, 236 S. Church St.\, Grass Valley\, CA\, 95945\, United States
END:VEVENT
BEGIN:VEVENT
DTSTART;TZID=America/Los_Angeles:20260125T100000
DTEND;TZID=America/Los_Angeles:20260125T110000
DTSTAMP:20260425T164931
CREATED:20251119T092011Z
LAST-MODIFIED:20251229T231344Z
UID:10001811-1769335200-1769338800@gv-umc.org
SUMMARY:Worship Service
DESCRIPTION:We worship every Sunday from 10am to 11am\, and always follow-up with a well attended and delicious coffee fellowship (usually with lots of tasteful treats).
URL:https://gv-umc.org/event/worship-service/2026-01-25/
CATEGORIES:Worship Services
ATTACH;FMTTYPE=image/jpeg:https://gv-umc.org/wp-content/uploads/2024/06/IMG_5574-1-scaled.jpeg
END:VEVENT
BEGIN:VEVENT
DTSTART;TZID=America/Los_Angeles:20260118T110000
DTEND;TZID=America/Los_Angeles:20260118T113000
DTSTAMP:20260425T164931
CREATED:20251211T074153Z
LAST-MODIFIED:20251226T004516Z
UID:10001544-1768734000-1768735800@gv-umc.org
SUMMARY:Fellowship Gathering
DESCRIPTION:Join us for coffee\, treats\, and great company immediately after Worship in the Wesley Hall.
URL:https://gv-umc.org/event/fellowship-gathering/2026-01-18/
LOCATION:Grass Valley United Methodist Church\, 236 S. Church St.\, Grass Valley\, CA\, 95945\, United States
END:VEVENT
END:VCALENDAR