BEGIN:VCALENDAR
VERSION:2.0
PRODID:-//Grass Valley United Methodist Church - ECPv6.15.17.1//NONSGML v1.0//EN
CALSCALE:GREGORIAN
METHOD:PUBLISH
X-ORIGINAL-URL:https://gv-umc.org
X-WR-CALDESC:Events for Grass Valley United Methodist Church
REFRESH-INTERVAL;VALUE=DURATION:PT1H
X-Robots-Tag:noindex
X-PUBLISHED-TTL:PT1H
BEGIN:VTIMEZONE
TZID:America/Los_Angeles
BEGIN:DAYLIGHT
TZOFFSETFROM:-0800
TZOFFSETTO:-0700
TZNAME:PDT
DTSTART:20250309T100000
END:DAYLIGHT
BEGIN:STANDARD
TZOFFSETFROM:-0700
TZOFFSETTO:-0800
TZNAME:PST
DTSTART:20251102T090000
END:STANDARD
BEGIN:DAYLIGHT
TZOFFSETFROM:-0800
TZOFFSETTO:-0700
TZNAME:PDT
DTSTART:20260308T100000
END:DAYLIGHT
BEGIN:STANDARD
TZOFFSETFROM:-0700
TZOFFSETTO:-0800
TZNAME:PST
DTSTART:20261101T090000
END:STANDARD
BEGIN:DAYLIGHT
TZOFFSETFROM:-0800
TZOFFSETTO:-0700
TZNAME:PDT
DTSTART:20270314T100000
END:DAYLIGHT
BEGIN:STANDARD
TZOFFSETFROM:-0700
TZOFFSETTO:-0800
TZNAME:PST
DTSTART:20271107T090000
END:STANDARD
END:VTIMEZONE
BEGIN:VEVENT
DTSTART;TZID=America/Los_Angeles:20260531T110000
DTEND;TZID=America/Los_Angeles:20260531T113000
DTSTAMP:20260425T154010
CREATED:20251211T074153Z
LAST-MODIFIED:20251226T004516Z
UID:10001563-1780225200-1780227000@gv-umc.org
SUMMARY:Fellowship Gathering
DESCRIPTION:Join us for coffee\, treats\, and great company immediately after Worship in the Wesley Hall.
URL:https://gv-umc.org/event/fellowship-gathering/2026-05-31/
LOCATION:Grass Valley United Methodist Church\, 236 S. Church St.\, Grass Valley\, CA\, 95945\, United States
END:VEVENT
BEGIN:VEVENT
DTSTART;TZID=America/Los_Angeles:20260607T100000
DTEND;TZID=America/Los_Angeles:20260607T110000
DTSTAMP:20260425T154010
CREATED:20251119T092011Z
LAST-MODIFIED:20251229T231344Z
UID:10001830-1780826400-1780830000@gv-umc.org
SUMMARY:Worship Service
DESCRIPTION:We worship every Sunday from 10am to 11am\, and always follow-up with a well attended and delicious coffee fellowship (usually with lots of tasteful treats).
URL:https://gv-umc.org/event/worship-service/2026-06-07/
CATEGORIES:Worship Services
ATTACH;FMTTYPE=image/jpeg:https://gv-umc.org/wp-content/uploads/2024/06/IMG_5574-1-scaled.jpeg
END:VEVENT
BEGIN:VEVENT
DTSTART;TZID=America/Los_Angeles:20260607T110000
DTEND;TZID=America/Los_Angeles:20260607T113000
DTSTAMP:20260425T154010
CREATED:20251211T074153Z
LAST-MODIFIED:20251226T004516Z
UID:10001564-1780830000-1780831800@gv-umc.org
SUMMARY:Fellowship Gathering
DESCRIPTION:Join us for coffee\, treats\, and great company immediately after Worship in the Wesley Hall.
URL:https://gv-umc.org/event/fellowship-gathering/2026-06-07/
LOCATION:Grass Valley United Methodist Church\, 236 S. Church St.\, Grass Valley\, CA\, 95945\, United States
END:VEVENT
BEGIN:VEVENT
DTSTART;TZID=America/Los_Angeles:20260614T100000
DTEND;TZID=America/Los_Angeles:20260614T110000
DTSTAMP:20260425T154010
CREATED:20251119T092011Z
LAST-MODIFIED:20251229T231344Z
UID:10001831-1781431200-1781434800@gv-umc.org
SUMMARY:Worship Service
DESCRIPTION:We worship every Sunday from 10am to 11am\, and always follow-up with a well attended and delicious coffee fellowship (usually with lots of tasteful treats).
URL:https://gv-umc.org/event/worship-service/2026-06-14/
CATEGORIES:Worship Services
ATTACH;FMTTYPE=image/jpeg:https://gv-umc.org/wp-content/uploads/2024/06/IMG_5574-1-scaled.jpeg
END:VEVENT
BEGIN:VEVENT
DTSTART;TZID=America/Los_Angeles:20260614T110000
DTEND;TZID=America/Los_Angeles:20260614T113000
DTSTAMP:20260425T154010
CREATED:20251211T074153Z
LAST-MODIFIED:20251226T004516Z
UID:10001565-1781434800-1781436600@gv-umc.org
SUMMARY:Fellowship Gathering
DESCRIPTION:Join us for coffee\, treats\, and great company immediately after Worship in the Wesley Hall.
URL:https://gv-umc.org/event/fellowship-gathering/2026-06-14/
LOCATION:Grass Valley United Methodist Church\, 236 S. Church St.\, Grass Valley\, CA\, 95945\, United States
END:VEVENT
BEGIN:VEVENT
DTSTART;TZID=America/Los_Angeles:20260621T100000
DTEND;TZID=America/Los_Angeles:20260621T110000
DTSTAMP:20260425T154010
CREATED:20251119T092011Z
LAST-MODIFIED:20251229T231344Z
UID:10001832-1782036000-1782039600@gv-umc.org
SUMMARY:Worship Service
DESCRIPTION:We worship every Sunday from 10am to 11am\, and always follow-up with a well attended and delicious coffee fellowship (usually with lots of tasteful treats).
URL:https://gv-umc.org/event/worship-service/2026-06-21/
CATEGORIES:Worship Services
ATTACH;FMTTYPE=image/jpeg:https://gv-umc.org/wp-content/uploads/2024/06/IMG_5574-1-scaled.jpeg
END:VEVENT
BEGIN:VEVENT
DTSTART;TZID=America/Los_Angeles:20260621T110000
DTEND;TZID=America/Los_Angeles:20260621T113000
DTSTAMP:20260425T154010
CREATED:20251211T074153Z
LAST-MODIFIED:20251226T004516Z
UID:10001566-1782039600-1782041400@gv-umc.org
SUMMARY:Fellowship Gathering
DESCRIPTION:Join us for coffee\, treats\, and great company immediately after Worship in the Wesley Hall.
URL:https://gv-umc.org/event/fellowship-gathering/2026-06-21/
LOCATION:Grass Valley United Methodist Church\, 236 S. Church St.\, Grass Valley\, CA\, 95945\, United States
END:VEVENT
BEGIN:VEVENT
DTSTART;TZID=America/Los_Angeles:20260625T070000
DTEND;TZID=America/Los_Angeles:20260625T120000
DTSTAMP:20260425T154010
CREATED:20251229T234710Z
LAST-MODIFIED:20251229T234710Z
UID:10002143-1782370800-1782388800@gv-umc.org
SUMMARY:Pasty Bake
DESCRIPTION:Join us on the last Thursday of each month! We love new volunteers! No previous experience necessary\, we will train you! There are sit down jobs\, stand up jobs\, jobs that require some training and jobs that require only a willingness to help. We can always use more help and hope you might consider this possible volunteer opportunity. We gather between 7 a.m. and 9 a.m. in Wesley Hall and would love volunteers.
URL:https://gv-umc.org/event/pasty-bake-2/2026-06-25/
LOCATION:Grass Valley United Methodist Church\, 236 S. Church St.\, Grass Valley\, CA\, 95945\, United States
CATEGORIES:Pasty Bake
ATTACH;FMTTYPE=image/jpeg:https://gv-umc.org/wp-content/uploads/2024/05/IMG_5478-scaled.jpeg
ORGANIZER;CN="Grass Valley United Methodist Church":MAILTO:gvumc@gv-umc.org
END:VEVENT
BEGIN:VEVENT
DTSTART;TZID=America/Los_Angeles:20260626T173000
DTEND;TZID=America/Los_Angeles:20260626T183000
DTSTAMP:20260425T154010
CREATED:20251229T232826Z
LAST-MODIFIED:20251229T233239Z
UID:10002081-1782495000-1782498600@gv-umc.org
SUMMARY:Last Friday Supper
DESCRIPTION:Grass Valley United Methodist Church offers a free dinner to anyone. A delicious Free Feast will be served in The Wesley Hall of the Methodist Church.  All are welcome to have a seat\, meal and beverage with us!  Table Service begins at 5:30 pm.  Unfortunately\, To-Go Dinners will not be available.  All Community Dinners are served indoors. Please join us at 5:30pm for the Last Friday Supper meals.
URL:https://gv-umc.org/event/last-friday-supper-2/2026-06-26/
LOCATION:Grass Valley United Methodist Church\, 236 S. Church St.\, Grass Valley\, CA\, 95945\, United States
CATEGORIES:Last Friday Supper
ATTACH;FMTTYPE=image/jpeg:https://gv-umc.org/wp-content/uploads/2025/11/F498FABD-AFC5-40D9-90E0-95702B0E7280_1_105_c.jpeg
ORGANIZER;CN="Grass Valley United Methodist Church":MAILTO:gvumc@gv-umc.org
END:VEVENT
BEGIN:VEVENT
DTSTART;TZID=America/Los_Angeles:20260628T100000
DTEND;TZID=America/Los_Angeles:20260628T110000
DTSTAMP:20260425T154010
CREATED:20251119T092011Z
LAST-MODIFIED:20251229T231344Z
UID:10001833-1782640800-1782644400@gv-umc.org
SUMMARY:Worship Service
DESCRIPTION:We worship every Sunday from 10am to 11am\, and always follow-up with a well attended and delicious coffee fellowship (usually with lots of tasteful treats).
URL:https://gv-umc.org/event/worship-service/2026-06-28/
CATEGORIES:Worship Services
ATTACH;FMTTYPE=image/jpeg:https://gv-umc.org/wp-content/uploads/2024/06/IMG_5574-1-scaled.jpeg
END:VEVENT
BEGIN:VEVENT
DTSTART;TZID=America/Los_Angeles:20260628T110000
DTEND;TZID=America/Los_Angeles:20260628T113000
DTSTAMP:20260425T154010
CREATED:20251211T074153Z
LAST-MODIFIED:20251226T004516Z
UID:10001567-1782644400-1782646200@gv-umc.org
SUMMARY:Fellowship Gathering
DESCRIPTION:Join us for coffee\, treats\, and great company immediately after Worship in the Wesley Hall.
URL:https://gv-umc.org/event/fellowship-gathering/2026-06-28/
LOCATION:Grass Valley United Methodist Church\, 236 S. Church St.\, Grass Valley\, CA\, 95945\, United States
END:VEVENT
BEGIN:VEVENT
DTSTART;TZID=America/Los_Angeles:20260705T100000
DTEND;TZID=America/Los_Angeles:20260705T110000
DTSTAMP:20260425T154010
CREATED:20251119T092011Z
LAST-MODIFIED:20251229T231344Z
UID:10001834-1783245600-1783249200@gv-umc.org
SUMMARY:Worship Service
DESCRIPTION:We worship every Sunday from 10am to 11am\, and always follow-up with a well attended and delicious coffee fellowship (usually with lots of tasteful treats).
URL:https://gv-umc.org/event/worship-service/2026-07-05/
CATEGORIES:Worship Services
ATTACH;FMTTYPE=image/jpeg:https://gv-umc.org/wp-content/uploads/2024/06/IMG_5574-1-scaled.jpeg
END:VEVENT
BEGIN:VEVENT
DTSTART;TZID=America/Los_Angeles:20260705T110000
DTEND;TZID=America/Los_Angeles:20260705T113000
DTSTAMP:20260425T154010
CREATED:20251211T074153Z
LAST-MODIFIED:20251226T004516Z
UID:10001568-1783249200-1783251000@gv-umc.org
SUMMARY:Fellowship Gathering
DESCRIPTION:Join us for coffee\, treats\, and great company immediately after Worship in the Wesley Hall.
URL:https://gv-umc.org/event/fellowship-gathering/2026-07-05/
LOCATION:Grass Valley United Methodist Church\, 236 S. Church St.\, Grass Valley\, CA\, 95945\, United States
END:VEVENT
BEGIN:VEVENT
DTSTART;TZID=America/Los_Angeles:20260712T100000
DTEND;TZID=America/Los_Angeles:20260712T110000
DTSTAMP:20260425T154010
CREATED:20251119T092011Z
LAST-MODIFIED:20251229T231344Z
UID:10001835-1783850400-1783854000@gv-umc.org
SUMMARY:Worship Service
DESCRIPTION:We worship every Sunday from 10am to 11am\, and always follow-up with a well attended and delicious coffee fellowship (usually with lots of tasteful treats).
URL:https://gv-umc.org/event/worship-service/2026-07-12/
CATEGORIES:Worship Services
ATTACH;FMTTYPE=image/jpeg:https://gv-umc.org/wp-content/uploads/2024/06/IMG_5574-1-scaled.jpeg
END:VEVENT
BEGIN:VEVENT
DTSTART;TZID=America/Los_Angeles:20260712T110000
DTEND;TZID=America/Los_Angeles:20260712T113000
DTSTAMP:20260425T154010
CREATED:20251211T074153Z
LAST-MODIFIED:20251226T004516Z
UID:10001569-1783854000-1783855800@gv-umc.org
SUMMARY:Fellowship Gathering
DESCRIPTION:Join us for coffee\, treats\, and great company immediately after Worship in the Wesley Hall.
URL:https://gv-umc.org/event/fellowship-gathering/2026-07-12/
LOCATION:Grass Valley United Methodist Church\, 236 S. Church St.\, Grass Valley\, CA\, 95945\, United States
END:VEVENT
BEGIN:VEVENT
DTSTART;TZID=America/Los_Angeles:20260719T100000
DTEND;TZID=America/Los_Angeles:20260719T110000
DTSTAMP:20260425T154010
CREATED:20251119T092011Z
LAST-MODIFIED:20251229T231344Z
UID:10001836-1784455200-1784458800@gv-umc.org
SUMMARY:Worship Service
DESCRIPTION:We worship every Sunday from 10am to 11am\, and always follow-up with a well attended and delicious coffee fellowship (usually with lots of tasteful treats).
URL:https://gv-umc.org/event/worship-service/2026-07-19/
CATEGORIES:Worship Services
ATTACH;FMTTYPE=image/jpeg:https://gv-umc.org/wp-content/uploads/2024/06/IMG_5574-1-scaled.jpeg
END:VEVENT
BEGIN:VEVENT
DTSTART;TZID=America/Los_Angeles:20260719T110000
DTEND;TZID=America/Los_Angeles:20260719T113000
DTSTAMP:20260425T154010
CREATED:20251211T074153Z
LAST-MODIFIED:20251226T004516Z
UID:10001570-1784458800-1784460600@gv-umc.org
SUMMARY:Fellowship Gathering
DESCRIPTION:Join us for coffee\, treats\, and great company immediately after Worship in the Wesley Hall.
URL:https://gv-umc.org/event/fellowship-gathering/2026-07-19/
LOCATION:Grass Valley United Methodist Church\, 236 S. Church St.\, Grass Valley\, CA\, 95945\, United States
END:VEVENT
BEGIN:VEVENT
DTSTART;TZID=America/Los_Angeles:20260726T100000
DTEND;TZID=America/Los_Angeles:20260726T110000
DTSTAMP:20260425T154010
CREATED:20251119T092011Z
LAST-MODIFIED:20251229T231344Z
UID:10001837-1785060000-1785063600@gv-umc.org
SUMMARY:Worship Service
DESCRIPTION:We worship every Sunday from 10am to 11am\, and always follow-up with a well attended and delicious coffee fellowship (usually with lots of tasteful treats).
URL:https://gv-umc.org/event/worship-service/2026-07-26/
CATEGORIES:Worship Services
ATTACH;FMTTYPE=image/jpeg:https://gv-umc.org/wp-content/uploads/2024/06/IMG_5574-1-scaled.jpeg
END:VEVENT
BEGIN:VEVENT
DTSTART;TZID=America/Los_Angeles:20260726T110000
DTEND;TZID=America/Los_Angeles:20260726T113000
DTSTAMP:20260425T154010
CREATED:20251211T074153Z
LAST-MODIFIED:20251226T004516Z
UID:10001571-1785063600-1785065400@gv-umc.org
SUMMARY:Fellowship Gathering
DESCRIPTION:Join us for coffee\, treats\, and great company immediately after Worship in the Wesley Hall.
URL:https://gv-umc.org/event/fellowship-gathering/2026-07-26/
LOCATION:Grass Valley United Methodist Church\, 236 S. Church St.\, Grass Valley\, CA\, 95945\, United States
END:VEVENT
BEGIN:VEVENT
DTSTART;TZID=America/Los_Angeles:20260730T070000
DTEND;TZID=America/Los_Angeles:20260730T120000
DTSTAMP:20260425T154010
CREATED:20251229T234710Z
LAST-MODIFIED:20251229T234710Z
UID:10002144-1785394800-1785412800@gv-umc.org
SUMMARY:Pasty Bake
DESCRIPTION:Join us on the last Thursday of each month! We love new volunteers! No previous experience necessary\, we will train you! There are sit down jobs\, stand up jobs\, jobs that require some training and jobs that require only a willingness to help. We can always use more help and hope you might consider this possible volunteer opportunity. We gather between 7 a.m. and 9 a.m. in Wesley Hall and would love volunteers.
URL:https://gv-umc.org/event/pasty-bake-2/2026-07-30/
LOCATION:Grass Valley United Methodist Church\, 236 S. Church St.\, Grass Valley\, CA\, 95945\, United States
CATEGORIES:Pasty Bake
ATTACH;FMTTYPE=image/jpeg:https://gv-umc.org/wp-content/uploads/2024/05/IMG_5478-scaled.jpeg
ORGANIZER;CN="Grass Valley United Methodist Church":MAILTO:gvumc@gv-umc.org
END:VEVENT
BEGIN:VEVENT
DTSTART;TZID=America/Los_Angeles:20260731T173000
DTEND;TZID=America/Los_Angeles:20260731T183000
DTSTAMP:20260425T154010
CREATED:20251229T232826Z
LAST-MODIFIED:20251229T233239Z
UID:10002082-1785519000-1785522600@gv-umc.org
SUMMARY:Last Friday Supper
DESCRIPTION:Grass Valley United Methodist Church offers a free dinner to anyone. A delicious Free Feast will be served in The Wesley Hall of the Methodist Church.  All are welcome to have a seat\, meal and beverage with us!  Table Service begins at 5:30 pm.  Unfortunately\, To-Go Dinners will not be available.  All Community Dinners are served indoors. Please join us at 5:30pm for the Last Friday Supper meals.
URL:https://gv-umc.org/event/last-friday-supper-2/2026-07-31/
LOCATION:Grass Valley United Methodist Church\, 236 S. Church St.\, Grass Valley\, CA\, 95945\, United States
CATEGORIES:Last Friday Supper
ATTACH;FMTTYPE=image/jpeg:https://gv-umc.org/wp-content/uploads/2025/11/F498FABD-AFC5-40D9-90E0-95702B0E7280_1_105_c.jpeg
ORGANIZER;CN="Grass Valley United Methodist Church":MAILTO:gvumc@gv-umc.org
END:VEVENT
BEGIN:VEVENT
DTSTART;TZID=America/Los_Angeles:20260802T100000
DTEND;TZID=America/Los_Angeles:20260802T110000
DTSTAMP:20260425T154010
CREATED:20251119T092011Z
LAST-MODIFIED:20251229T231344Z
UID:10001838-1785664800-1785668400@gv-umc.org
SUMMARY:Worship Service
DESCRIPTION:We worship every Sunday from 10am to 11am\, and always follow-up with a well attended and delicious coffee fellowship (usually with lots of tasteful treats).
URL:https://gv-umc.org/event/worship-service/2026-08-02/
CATEGORIES:Worship Services
ATTACH;FMTTYPE=image/jpeg:https://gv-umc.org/wp-content/uploads/2024/06/IMG_5574-1-scaled.jpeg
END:VEVENT
BEGIN:VEVENT
DTSTART;TZID=America/Los_Angeles:20260802T110000
DTEND;TZID=America/Los_Angeles:20260802T113000
DTSTAMP:20260425T154010
CREATED:20251211T074153Z
LAST-MODIFIED:20251226T004516Z
UID:10001572-1785668400-1785670200@gv-umc.org
SUMMARY:Fellowship Gathering
DESCRIPTION:Join us for coffee\, treats\, and great company immediately after Worship in the Wesley Hall.
URL:https://gv-umc.org/event/fellowship-gathering/2026-08-02/
LOCATION:Grass Valley United Methodist Church\, 236 S. Church St.\, Grass Valley\, CA\, 95945\, United States
END:VEVENT
BEGIN:VEVENT
DTSTART;TZID=America/Los_Angeles:20260809T100000
DTEND;TZID=America/Los_Angeles:20260809T110000
DTSTAMP:20260425T154010
CREATED:20251119T092011Z
LAST-MODIFIED:20251229T231344Z
UID:10001839-1786269600-1786273200@gv-umc.org
SUMMARY:Worship Service
DESCRIPTION:We worship every Sunday from 10am to 11am\, and always follow-up with a well attended and delicious coffee fellowship (usually with lots of tasteful treats).
URL:https://gv-umc.org/event/worship-service/2026-08-09/
CATEGORIES:Worship Services
ATTACH;FMTTYPE=image/jpeg:https://gv-umc.org/wp-content/uploads/2024/06/IMG_5574-1-scaled.jpeg
END:VEVENT
BEGIN:VEVENT
DTSTART;TZID=America/Los_Angeles:20260809T110000
DTEND;TZID=America/Los_Angeles:20260809T113000
DTSTAMP:20260425T154010
CREATED:20251211T074153Z
LAST-MODIFIED:20251226T004516Z
UID:10001573-1786273200-1786275000@gv-umc.org
SUMMARY:Fellowship Gathering
DESCRIPTION:Join us for coffee\, treats\, and great company immediately after Worship in the Wesley Hall.
URL:https://gv-umc.org/event/fellowship-gathering/2026-08-09/
LOCATION:Grass Valley United Methodist Church\, 236 S. Church St.\, Grass Valley\, CA\, 95945\, United States
END:VEVENT
BEGIN:VEVENT
DTSTART;TZID=America/Los_Angeles:20260816T100000
DTEND;TZID=America/Los_Angeles:20260816T110000
DTSTAMP:20260425T154010
CREATED:20251119T092011Z
LAST-MODIFIED:20251229T231344Z
UID:10001840-1786874400-1786878000@gv-umc.org
SUMMARY:Worship Service
DESCRIPTION:We worship every Sunday from 10am to 11am\, and always follow-up with a well attended and delicious coffee fellowship (usually with lots of tasteful treats).
URL:https://gv-umc.org/event/worship-service/2026-08-16/
CATEGORIES:Worship Services
ATTACH;FMTTYPE=image/jpeg:https://gv-umc.org/wp-content/uploads/2024/06/IMG_5574-1-scaled.jpeg
END:VEVENT
BEGIN:VEVENT
DTSTART;TZID=America/Los_Angeles:20260816T110000
DTEND;TZID=America/Los_Angeles:20260816T113000
DTSTAMP:20260425T154010
CREATED:20251211T074153Z
LAST-MODIFIED:20251226T004516Z
UID:10001574-1786878000-1786879800@gv-umc.org
SUMMARY:Fellowship Gathering
DESCRIPTION:Join us for coffee\, treats\, and great company immediately after Worship in the Wesley Hall.
URL:https://gv-umc.org/event/fellowship-gathering/2026-08-16/
LOCATION:Grass Valley United Methodist Church\, 236 S. Church St.\, Grass Valley\, CA\, 95945\, United States
END:VEVENT
BEGIN:VEVENT
DTSTART;TZID=America/Los_Angeles:20260823T100000
DTEND;TZID=America/Los_Angeles:20260823T110000
DTSTAMP:20260425T154010
CREATED:20251119T092011Z
LAST-MODIFIED:20251229T231344Z
UID:10001841-1787479200-1787482800@gv-umc.org
SUMMARY:Worship Service
DESCRIPTION:We worship every Sunday from 10am to 11am\, and always follow-up with a well attended and delicious coffee fellowship (usually with lots of tasteful treats).
URL:https://gv-umc.org/event/worship-service/2026-08-23/
CATEGORIES:Worship Services
ATTACH;FMTTYPE=image/jpeg:https://gv-umc.org/wp-content/uploads/2024/06/IMG_5574-1-scaled.jpeg
END:VEVENT
BEGIN:VEVENT
DTSTART;TZID=America/Los_Angeles:20260823T110000
DTEND;TZID=America/Los_Angeles:20260823T113000
DTSTAMP:20260425T154010
CREATED:20251211T074153Z
LAST-MODIFIED:20251226T004516Z
UID:10001575-1787482800-1787484600@gv-umc.org
SUMMARY:Fellowship Gathering
DESCRIPTION:Join us for coffee\, treats\, and great company immediately after Worship in the Wesley Hall.
URL:https://gv-umc.org/event/fellowship-gathering/2026-08-23/
LOCATION:Grass Valley United Methodist Church\, 236 S. Church St.\, Grass Valley\, CA\, 95945\, United States
END:VEVENT
BEGIN:VEVENT
DTSTART;TZID=America/Los_Angeles:20260827T070000
DTEND;TZID=America/Los_Angeles:20260827T120000
DTSTAMP:20260425T154010
CREATED:20251229T234710Z
LAST-MODIFIED:20251229T234710Z
UID:10002145-1787814000-1787832000@gv-umc.org
SUMMARY:Pasty Bake
DESCRIPTION:Join us on the last Thursday of each month! We love new volunteers! No previous experience necessary\, we will train you! There are sit down jobs\, stand up jobs\, jobs that require some training and jobs that require only a willingness to help. We can always use more help and hope you might consider this possible volunteer opportunity. We gather between 7 a.m. and 9 a.m. in Wesley Hall and would love volunteers.
URL:https://gv-umc.org/event/pasty-bake-2/2026-08-27/
LOCATION:Grass Valley United Methodist Church\, 236 S. Church St.\, Grass Valley\, CA\, 95945\, United States
CATEGORIES:Pasty Bake
ATTACH;FMTTYPE=image/jpeg:https://gv-umc.org/wp-content/uploads/2024/05/IMG_5478-scaled.jpeg
ORGANIZER;CN="Grass Valley United Methodist Church":MAILTO:gvumc@gv-umc.org
END:VEVENT
END:VCALENDAR