BEGIN:VCALENDAR
VERSION:2.0
PRODID:-//Grass Valley United Methodist Church - ECPv6.15.17.1//NONSGML v1.0//EN
CALSCALE:GREGORIAN
METHOD:PUBLISH
X-WR-CALNAME:Grass Valley United Methodist Church
X-ORIGINAL-URL:https://gv-umc.org
X-WR-CALDESC:Events for Grass Valley United Methodist Church
REFRESH-INTERVAL;VALUE=DURATION:PT1H
X-Robots-Tag:noindex
X-PUBLISHED-TTL:PT1H
BEGIN:VTIMEZONE
TZID:America/Los_Angeles
BEGIN:DAYLIGHT
TZOFFSETFROM:-0800
TZOFFSETTO:-0700
TZNAME:PDT
DTSTART:20250309T100000
END:DAYLIGHT
BEGIN:STANDARD
TZOFFSETFROM:-0700
TZOFFSETTO:-0800
TZNAME:PST
DTSTART:20251102T090000
END:STANDARD
BEGIN:DAYLIGHT
TZOFFSETFROM:-0800
TZOFFSETTO:-0700
TZNAME:PDT
DTSTART:20260308T100000
END:DAYLIGHT
BEGIN:STANDARD
TZOFFSETFROM:-0700
TZOFFSETTO:-0800
TZNAME:PST
DTSTART:20261101T090000
END:STANDARD
BEGIN:DAYLIGHT
TZOFFSETFROM:-0800
TZOFFSETTO:-0700
TZNAME:PDT
DTSTART:20270314T100000
END:DAYLIGHT
BEGIN:STANDARD
TZOFFSETFROM:-0700
TZOFFSETTO:-0800
TZNAME:PST
DTSTART:20271107T090000
END:STANDARD
END:VTIMEZONE
BEGIN:VEVENT
DTSTART;TZID=America/Los_Angeles:20260424T173000
DTEND;TZID=America/Los_Angeles:20260424T183000
DTSTAMP:20260425T191349
CREATED:20260408T171529Z
LAST-MODIFIED:20260408T171530Z
UID:10002079-1777051800-1777055400@gv-umc.org
SUMMARY:Last Friday Supper
DESCRIPTION:Grass Valley United Methodist Church offers a free dinner to anyone. A delicious Free Feast will be served in The Wesley Hall of the Methodist Church.  All are welcome to have a seat\, meal and beverage with us!  Table Service begins at 5:30 pm.  Unfortunately\, To-Go Dinners will not be available.  All Community Dinners are served indoors. Please join us at 5:30pm for the Last Friday Supper meals. \nFREE Dinner\, Served 5:30 pm to 6:30 pm \n\nGVUMC\, Wesley Hall\, 236 S. Church Street\nSpring Dinner: Baked Ham\, Sweet Potatoes\, Fresh Green Salad & Dressing\, Rolls w/ Butter\n\nAnd a variety of Cakes & Pies for Dessert!!  \n     Live Music by The Strum Bums!!! \n Families are Welcome!!
URL:https://gv-umc.org/event/last-friday-supper-2-2/
LOCATION:Grass Valley United Methodist Church\, 236 S. Church St.\, Grass Valley\, CA\, 95945\, United States
CATEGORIES:Last Friday Supper
ATTACH;FMTTYPE=image/jpeg:https://gv-umc.org/wp-content/uploads/2025/11/F498FABD-AFC5-40D9-90E0-95702B0E7280_1_105_c.jpeg
ORGANIZER;CN="Grass Valley United Methodist Church":MAILTO:gvumc@gv-umc.org
END:VEVENT
BEGIN:VEVENT
DTSTART;TZID=America/Los_Angeles:20260405T084500
DTEND;TZID=America/Los_Angeles:20260405T094500
DTSTAMP:20260425T191349
CREATED:20260320T205013Z
LAST-MODIFIED:20260401T005100Z
UID:10002202-1775378700-1775382300@gv-umc.org
SUMMARY:Free Easter Breakfast
DESCRIPTION:Come join us as the men of GVUMC serve breakfast before Easter Sunday Service.
URL:https://gv-umc.org/event/free-easter-breakfast/
LOCATION:Grass Valley United Methodist Church\, 236 S. Church St.\, Grass Valley\, CA\, 95945\, United States
CATEGORIES:Worship Services
ORGANIZER;CN="Grass Valley United Methodist Church":MAILTO:gvumc@gv-umc.org
END:VEVENT
BEGIN:VEVENT
DTSTART;TZID=America/Los_Angeles:20260405T084500
DTEND;TZID=America/Los_Angeles:20260405T093000
DTSTAMP:20260425T191349
CREATED:20260401T005331Z
LAST-MODIFIED:20260401T005331Z
UID:10002204-1775378700-1775381400@gv-umc.org
SUMMARY:Flowering of the Cross
DESCRIPTION:Join us as we flower the cross for Easter Service. Bring flowers from home or your favorite flower shop\, or help with the flowers we’ve collected.
URL:https://gv-umc.org/event/flowering-of-the-cross/
LOCATION:Grass Valley United Methodist Church\, 236 S. Church St.\, Grass Valley\, CA\, 95945\, United States
ORGANIZER;CN="Grass Valley United Methodist Church":MAILTO:gvumc@gv-umc.org
END:VEVENT
BEGIN:VEVENT
DTSTART;TZID=America/Los_Angeles:20260403T120000
DTEND;TZID=America/Los_Angeles:20260403T130000
DTSTAMP:20260425T191349
CREATED:20260324T164408Z
LAST-MODIFIED:20260324T164408Z
UID:10002203-1775217600-1775221200@gv-umc.org
SUMMARY:Joint Good Friday Service
DESCRIPTION:There is a joint Good Friday service shared between Peace Lutheran\, Emmanuel Episcopal Church\, and the Grass Valley United Methodist Church. The service will be held at Emmanuel Episcopal Church\, which is located at 235 South Church Street in Grass Valley.
URL:https://gv-umc.org/event/joint-good-friday-service/
LOCATION:Emmanuel Episcopal Church\, 235 S. Church Street\, CA\, 95945\, United States
CATEGORIES:Worship Services
ORGANIZER;CN="Grass Valley United Methodist Church":MAILTO:gvumc@gv-umc.org
END:VEVENT
BEGIN:VEVENT
DTSTART;TZID=America/Los_Angeles:20260402T190000
DTEND;TZID=America/Los_Angeles:20260402T200000
DTSTAMP:20260425T191349
CREATED:20260320T203157Z
LAST-MODIFIED:20260320T203157Z
UID:10002201-1775156400-1775160000@gv-umc.org
SUMMARY:Maundy Thursday Service
DESCRIPTION:Join us for Maundy Thursday Service. The Maundy Thursday\, also known as Holy Thursday\, is a Christian observance that commemorates the Last Supper of Jesus with his disciples and the washing of their feet. It occurs on the Thursday before Easter and marks the beginning of the Easter Triduum\, leading up to Good Friday and Easter Sunday.
URL:https://gv-umc.org/event/maundy-thursday-service/
LOCATION:Grass Valley United Methodist Church\, 236 S. Church St.\, Grass Valley\, CA\, 95945\, United States
CATEGORIES:Worship Services
ORGANIZER;CN="Grass Valley United Methodist Church":MAILTO:gvumc@gv-umc.org
END:VEVENT
BEGIN:VEVENT
DTSTART;TZID=America/Los_Angeles:20260402T173000
DTEND;TZID=America/Los_Angeles:20260402T190000
DTSTAMP:20260425T191349
CREATED:20260320T202747Z
LAST-MODIFIED:20260320T203300Z
UID:10002200-1775151000-1775156400@gv-umc.org
SUMMARY:Maundy Thursday Soup Supper
DESCRIPTION:Join us for a lite soup supper prior to our Maundy Thursday Service at 7PM. The Maundy Thursday\, also known as Holy Thursday\, is a Christian observance that commemorates the Last Supper of Jesus with his disciples and the washing of their feet. It occurs on the Thursday before Easter and marks the beginning of the Easter Triduum\, leading up to Good Friday and Easter Sunday.
URL:https://gv-umc.org/event/maundy-thursday-soup-supper/
CATEGORIES:Worship Services
ORGANIZER;CN="Grass Valley United Methodist Church":MAILTO:gvumc@gv-umc.org
END:VEVENT
BEGIN:VEVENT
DTSTART;TZID=America/Los_Angeles:20260327T173000
DTEND;TZID=America/Los_Angeles:20260327T183000
DTSTAMP:20260425T191349
CREATED:20251229T232826Z
LAST-MODIFIED:20251229T233239Z
UID:10002078-1774632600-1774636200@gv-umc.org
SUMMARY:Last Friday Supper
DESCRIPTION:Grass Valley United Methodist Church offers a free dinner to anyone. A delicious Free Feast will be served in The Wesley Hall of the Methodist Church.  All are welcome to have a seat\, meal and beverage with us!  Table Service begins at 5:30 pm.  Unfortunately\, To-Go Dinners will not be available.  All Community Dinners are served indoors. Please join us at 5:30pm for the Last Friday Supper meals.
URL:https://gv-umc.org/event/last-friday-supper-2/2026-03-27/
LOCATION:Grass Valley United Methodist Church\, 236 S. Church St.\, Grass Valley\, CA\, 95945\, United States
CATEGORIES:Last Friday Supper
ATTACH;FMTTYPE=image/jpeg:https://gv-umc.org/wp-content/uploads/2025/11/F498FABD-AFC5-40D9-90E0-95702B0E7280_1_105_c.jpeg
ORGANIZER;CN="Grass Valley United Methodist Church":MAILTO:gvumc@gv-umc.org
END:VEVENT
BEGIN:VEVENT
DTSTART;TZID=America/Los_Angeles:20260326T070000
DTEND;TZID=America/Los_Angeles:20260326T120000
DTSTAMP:20260425T191349
CREATED:20251229T234710Z
LAST-MODIFIED:20251229T234710Z
UID:10002140-1774508400-1774526400@gv-umc.org
SUMMARY:Pasty Bake
DESCRIPTION:Join us on the last Thursday of each month! We love new volunteers! No previous experience necessary\, we will train you! There are sit down jobs\, stand up jobs\, jobs that require some training and jobs that require only a willingness to help. We can always use more help and hope you might consider this possible volunteer opportunity. We gather between 7 a.m. and 9 a.m. in Wesley Hall and would love volunteers.
URL:https://gv-umc.org/event/pasty-bake-2/2026-03-26/
LOCATION:Grass Valley United Methodist Church\, 236 S. Church St.\, Grass Valley\, CA\, 95945\, United States
CATEGORIES:Pasty Bake
ATTACH;FMTTYPE=image/jpeg:https://gv-umc.org/wp-content/uploads/2024/05/IMG_5478-scaled.jpeg
ORGANIZER;CN="Grass Valley United Methodist Church":MAILTO:gvumc@gv-umc.org
END:VEVENT
BEGIN:VEVENT
DTSTART;TZID=America/Los_Angeles:20260227T173000
DTEND;TZID=America/Los_Angeles:20260227T183000
DTSTAMP:20260425T191349
CREATED:20251229T232826Z
LAST-MODIFIED:20251229T233239Z
UID:10002077-1772213400-1772217000@gv-umc.org
SUMMARY:Last Friday Supper
DESCRIPTION:Grass Valley United Methodist Church offers a free dinner to anyone. A delicious Free Feast will be served in The Wesley Hall of the Methodist Church.  All are welcome to have a seat\, meal and beverage with us!  Table Service begins at 5:30 pm.  Unfortunately\, To-Go Dinners will not be available.  All Community Dinners are served indoors. Please join us at 5:30pm for the Last Friday Supper meals.
URL:https://gv-umc.org/event/last-friday-supper-2/2026-02-27/
LOCATION:Grass Valley United Methodist Church\, 236 S. Church St.\, Grass Valley\, CA\, 95945\, United States
CATEGORIES:Last Friday Supper
ATTACH;FMTTYPE=image/jpeg:https://gv-umc.org/wp-content/uploads/2025/11/F498FABD-AFC5-40D9-90E0-95702B0E7280_1_105_c.jpeg
ORGANIZER;CN="Grass Valley United Methodist Church":MAILTO:gvumc@gv-umc.org
END:VEVENT
BEGIN:VEVENT
DTSTART;TZID=America/Los_Angeles:20260226T070000
DTEND;TZID=America/Los_Angeles:20260226T120000
DTSTAMP:20260425T191349
CREATED:20251229T234710Z
LAST-MODIFIED:20251229T234710Z
UID:10002139-1772089200-1772107200@gv-umc.org
SUMMARY:Pasty Bake
DESCRIPTION:Join us on the last Thursday of each month! We love new volunteers! No previous experience necessary\, we will train you! There are sit down jobs\, stand up jobs\, jobs that require some training and jobs that require only a willingness to help. We can always use more help and hope you might consider this possible volunteer opportunity. We gather between 7 a.m. and 9 a.m. in Wesley Hall and would love volunteers.
URL:https://gv-umc.org/event/pasty-bake-2/2026-02-26/
LOCATION:Grass Valley United Methodist Church\, 236 S. Church St.\, Grass Valley\, CA\, 95945\, United States
CATEGORIES:Pasty Bake
ATTACH;FMTTYPE=image/jpeg:https://gv-umc.org/wp-content/uploads/2024/05/IMG_5478-scaled.jpeg
ORGANIZER;CN="Grass Valley United Methodist Church":MAILTO:gvumc@gv-umc.org
END:VEVENT
BEGIN:VEVENT
DTSTART;TZID=America/Los_Angeles:20260130T173000
DTEND;TZID=America/Los_Angeles:20260130T183000
DTSTAMP:20260425T191349
CREATED:20251229T232826Z
LAST-MODIFIED:20251229T233239Z
UID:10002076-1769794200-1769797800@gv-umc.org
SUMMARY:Last Friday Supper
DESCRIPTION:Grass Valley United Methodist Church offers a free dinner to anyone. A delicious Free Feast will be served in The Wesley Hall of the Methodist Church.  All are welcome to have a seat\, meal and beverage with us!  Table Service begins at 5:30 pm.  Unfortunately\, To-Go Dinners will not be available.  All Community Dinners are served indoors. Please join us at 5:30pm for the Last Friday Supper meals.
URL:https://gv-umc.org/event/last-friday-supper-2/2026-01-30/
LOCATION:Grass Valley United Methodist Church\, 236 S. Church St.\, Grass Valley\, CA\, 95945\, United States
CATEGORIES:Last Friday Supper
ATTACH;FMTTYPE=image/jpeg:https://gv-umc.org/wp-content/uploads/2025/11/F498FABD-AFC5-40D9-90E0-95702B0E7280_1_105_c.jpeg
ORGANIZER;CN="Grass Valley United Methodist Church":MAILTO:gvumc@gv-umc.org
END:VEVENT
BEGIN:VEVENT
DTSTART;TZID=America/Los_Angeles:20260129T070000
DTEND;TZID=America/Los_Angeles:20260129T120000
DTSTAMP:20260425T191349
CREATED:20251229T234710Z
LAST-MODIFIED:20251229T234710Z
UID:10002138-1769670000-1769688000@gv-umc.org
SUMMARY:Pasty Bake
DESCRIPTION:Join us on the last Thursday of each month! We love new volunteers! No previous experience necessary\, we will train you! There are sit down jobs\, stand up jobs\, jobs that require some training and jobs that require only a willingness to help. We can always use more help and hope you might consider this possible volunteer opportunity. We gather between 7 a.m. and 9 a.m. in Wesley Hall and would love volunteers.
URL:https://gv-umc.org/event/pasty-bake-2/2026-01-29/
LOCATION:Grass Valley United Methodist Church\, 236 S. Church St.\, Grass Valley\, CA\, 95945\, United States
CATEGORIES:Pasty Bake
ATTACH;FMTTYPE=image/jpeg:https://gv-umc.org/wp-content/uploads/2024/05/IMG_5478-scaled.jpeg
ORGANIZER;CN="Grass Valley United Methodist Church":MAILTO:gvumc@gv-umc.org
END:VEVENT
END:VCALENDAR